BEGIN:VCALENDAR
PRODID:NingEventWidget-v1
VERSION:2.0
METHOD:PUBLISH
BEGIN:VTIMEZONE
TZID:America/Los_Angeles
X-LIC-LOCATION:America/Los_Angeles
BEGIN:DAYLIGHT
TZOFFSETFROM:-0800
TZOFFSETTO:-0700
TZNAME:PDT
DTSTART:19700308T020000
RRULE:FREQ=YEARLY;BYMONTH=3;BYDAY=2SU
END:DAYLIGHT
BEGIN:STANDARD
TZOFFSETFROM:-0700
TZOFFSETTO:-0800
TZNAME:PST
DTSTART:19701101T020000
RRULE:FREQ=YEARLY;BYMONTH=11;BYDAY=1SU
END:STANDARD
END:VTIMEZONE
BEGIN:VEVENT
UID:1464587:Event:63999
DTSTAMP:20260420T134651Z
SUMMARY:Norma Fraser Jamaican Reggae Legend
DESCRIPTION:August 28, 2010 at 9:00pm - Shattuck Down Low, Berkeley, C
 A.\nSaturday August 28, 2010 SDL presents Norma Fraser, Itals & Mystic
  Man/Lakay world, latin, reggae extravaganza.\nShattuch Down Low 2284 
 Shattuck Ave., Berkley, CA 94704 9:00PM Show: $15 adv/ $18 at the door
 . BUY TICKETS\n\nOrganized by SDL\n\nFor more information visit http:/
 /trueskool.com/events/norma-fraser-jamaican-reggae
DTSTART;TZID=America/Los_Angeles:20100828T210000
DTEND;TZID=America/Los_Angeles:20100829T020000
CATEGORIES:bay, area
LOCATION:Shattuck Down Low
WEBSITE:http://www.shattuckdownlow.com
URL:http://www.shattuckdownlow.com
CONTACT:510-548-1159
ORGANIZER:SDL
ATTACH;FMTTYPE="image/jpeg":
ATTENDEE;ROLE=REQ-PARTICIPANT;PARTSTAT=ACCEPTED;RSVP=TRUE;CN="Beverly 
 Snyder":http://trueskool.com/profile/BeverlySnyder
END:VEVENT
END:VCALENDAR
