BEGIN:VCALENDAR
PRODID:NingEventWidget-v1
VERSION:2.0
METHOD:PUBLISH
BEGIN:VTIMEZONE
TZID:America/Los_Angeles
X-LIC-LOCATION:America/Los_Angeles
BEGIN:DAYLIGHT
TZOFFSETFROM:-0800
TZOFFSETTO:-0700
TZNAME:PDT
DTSTART:19700308T020000
RRULE:FREQ=YEARLY;BYMONTH=3;BYDAY=2SU
END:DAYLIGHT
BEGIN:STANDARD
TZOFFSETFROM:-0700
TZOFFSETTO:-0800
TZNAME:PST
DTSTART:19701101T020000
RRULE:FREQ=YEARLY;BYMONTH=11;BYDAY=1SU
END:STANDARD
END:VTIMEZONE
BEGIN:VEVENT
UID:1464587:Event:689271
DTSTAMP:20260424T062503Z
SUMMARY:Non Stop Bhangra Presents: Bhangra Nation
DESCRIPTION:Non Stop Bhangra brings its award winning production back 
 to Oakland for one of a kind Summer Sound clash mixing in Bhangra with
  International flavors and Oakland vibes. \nFeaturing NSB crew with s
 pecial guest DJs, live drummers, Bay Area's emcee's, and more coming t
 ogether for one of a kind night that will make you dance your socks of
 f!!!! Come get down and find out why it's been voted \"Best Dance Part
 y\" in the SF Bay Area and still bringing people together 15 years and
  counting!!!\nSaturday, July 27th | The New Parish | Doors 9:00pmTic
 ket Link: https://www.eventbrite.com/e/bhangra-nation-tickets-6370702
 3422?\n\n \n\nFor more information visit http://trueskool.com/events/
 non-stop-bhangra-presents-bhangra-nation
DTSTART;TZID=America/Los_Angeles:20190727T210000
DTEND;TZID=America/Los_Angeles:20190728T020000
CATEGORIES:oakland, "bay area"
LOCATION:The New Parish, Oakland, CA
WEBSITE:https://www.eventbrite.com/e/bhangra-nation-tickets-6370702342
 2?
URL:https://www.eventbrite.com/e/bhangra-nation-tickets-63707023422?
CONTACT:
ORGANIZER;CN="Non Stop Bhangra":http://trueskool.com/profile/NonStopBh
 angra
ATTACH;FMTTYPE="image/jpeg":https://storage.ning.com/topology/rest/1.0
 /file/get/3214766290?profile=original
ATTENDEE;ROLE=REQ-PARTICIPANT;PARTSTAT=ACCEPTED;RSVP=TRUE;CN="Non Stop
  Bhangra":http://trueskool.com/profile/NonStopBhangra
END:VEVENT
END:VCALENDAR
