BEGIN:VCALENDAR
PRODID:NingEventWidget-v1
VERSION:2.0
METHOD:PUBLISH
BEGIN:VTIMEZONE
TZID:America/Los_Angeles
X-LIC-LOCATION:America/Los_Angeles
BEGIN:DAYLIGHT
TZOFFSETFROM:-0800
TZOFFSETTO:-0700
TZNAME:PDT
DTSTART:19700308T020000
RRULE:FREQ=YEARLY;BYMONTH=3;BYDAY=2SU
END:DAYLIGHT
BEGIN:STANDARD
TZOFFSETFROM:-0700
TZOFFSETTO:-0800
TZNAME:PST
DTSTART:19701101T020000
RRULE:FREQ=YEARLY;BYMONTH=11;BYDAY=1SU
END:STANDARD
END:VTIMEZONE
BEGIN:VEVENT
UID:1464587:Event:652132
DTSTAMP:20260420T203809Z
SUMMARY:Non Stop Bhangra-Journey To India
DESCRIPTION:Ever wanted to take a trip to India? Well here's your chan
 ce! Leave your visa at home and come join Non Stop Bhangra as we take 
 you on a beautiful journey to experience the sounds, rhythms, colors, 
 and flavor of India right here in San Francisco. A vibrant and colorfu
 l night featuring dance lesson, dance performances, live music, drummi
 ng, dj's, visuals, henna, live painting, food truck and more!\nVoted 
 as one of the best dance floors nights in San Francisco and a a treat 
 for the eyes and ears. Don't miss it!\nTickets are on sale now so make
  sure to grab them early!\nPre-Sale Ticket Link: http://nsb125.eventb
 rite.com\n\n\nFor more information visit http://trueskool.com/events/n
 on-stop-bhangra-journey-to-india
DTSTART;TZID=America/Los_Angeles:20160827T210000
DTEND;TZID=America/Los_Angeles:20160828T020000
CATEGORIES:"san francisco", "bay area"
LOCATION:Public Works, SF
WEBSITE:http://nsb125.eventbrite.com
URL:http://nsb125.eventbrite.com
CONTACT:14156949080
ORGANIZER;CN="Non Stop Bhangra":http://trueskool.com/profile/NonStopBh
 angra
ATTACH;FMTTYPE="image/jpeg":http://storage.ning.com/topology/rest/1.0/
 file/get/2247989733?profile=original
ATTENDEE;ROLE=REQ-PARTICIPANT;PARTSTAT=ACCEPTED;RSVP=TRUE;CN="Non Stop
  Bhangra":http://trueskool.com/profile/NonStopBhangra
END:VEVENT
END:VCALENDAR
