BEGIN:VCALENDAR
PRODID:NingEventWidget-v1
VERSION:2.0
METHOD:PUBLISH
BEGIN:VTIMEZONE
TZID:America/Los_Angeles
X-LIC-LOCATION:America/Los_Angeles
BEGIN:DAYLIGHT
TZOFFSETFROM:-0800
TZOFFSETTO:-0700
TZNAME:PDT
DTSTART:19700308T020000
RRULE:FREQ=YEARLY;BYMONTH=3;BYDAY=2SU
END:DAYLIGHT
BEGIN:STANDARD
TZOFFSETFROM:-0700
TZOFFSETTO:-0800
TZNAME:PST
DTSTART:19701101T020000
RRULE:FREQ=YEARLY;BYMONTH=11;BYDAY=1SU
END:STANDARD
END:VTIMEZONE
BEGIN:VEVENT
UID:1464587:Event:662163
DTSTAMP:20260420T152532Z
SUMMARY:Non Stop Bhangra \"Crash An Indian Wedding Party\"
DESCRIPTION:\nEver wanted to crash an indian wedding party? Here's you
 r chance to skip over all the long speeches, last minute gifts and obl
 igations and experience the most vibrant and fun things about an India
 n wedding celebration!\nSF's wildly popular Non Stop Bhangra productio
 n returns on July 1st with its most popular and sold out yearly theme 
 \"Crash An Indian Wedding Party\" and you are all invited! A colorful 
 night featuring Baraat Mob (dancing street procession) into dance less
 on, dance performances, live singing, dj's, drummers, henna, complimen
 tary sweets, live art, beautiful and vibrant music & endless dancing! 
 One of a kind experience only found in San Francisco!\nTickets & Info:
  http://nsb133.eventbrite.com\n\nFor more information visit http://tru
 eskool.com/events/non-stop-bhangra-crash-an-indian-wedding-party
DTSTART;TZID=America/Los_Angeles:20170701T210000
DTEND;TZID=America/Los_Angeles:20170702T020000
CATEGORIES:public, works
LOCATION:Public Works, SF
WEBSITE:http://nsb133.eventbrite.com
URL:http://nsb133.eventbrite.com
CONTACT:
ORGANIZER;CN="Non Stop Bhangra":http://trueskool.com/profile/NonStopBh
 angra
ATTACH;FMTTYPE="image/jpeg":http://storage.ning.com/topology/rest/1.0/
 file/get/2247995933?profile=original
ATTENDEE;ROLE=REQ-PARTICIPANT;PARTSTAT=ACCEPTED;RSVP=TRUE;CN="Non Stop
  Bhangra":http://trueskool.com/profile/NonStopBhangra
END:VEVENT
END:VCALENDAR
