BEGIN:VCALENDAR
PRODID:NingEventWidget-v1
VERSION:2.0
METHOD:PUBLISH
BEGIN:VTIMEZONE
TZID:America/Los_Angeles
X-LIC-LOCATION:America/Los_Angeles
BEGIN:DAYLIGHT
TZOFFSETFROM:-0800
TZOFFSETTO:-0700
TZNAME:PDT
DTSTART:19700308T020000
RRULE:FREQ=YEARLY;BYMONTH=3;BYDAY=2SU
END:DAYLIGHT
BEGIN:STANDARD
TZOFFSETFROM:-0700
TZOFFSETTO:-0800
TZNAME:PST
DTSTART:19701101T020000
RRULE:FREQ=YEARLY;BYMONTH=11;BYDAY=1SU
END:STANDARD
END:VTIMEZONE
BEGIN:VEVENT
UID:1464587:Event:675157
DTSTAMP:20260420T232411Z
SUMMARY:Non Stop Bhangra \"Crash An Indian Wedding Party\"
DESCRIPTION:Have you ever wanted to crash an Indian wedding party, whe
 re you walk into a room filled with bright beautiful outfits, arms in 
 the air, contagious music, as the dancing becomes an expression of the
  joyous occasion? Here's your chance as Non Stop Bhangra brings back 
 its favorite and most popular annual theme.\nJoin the crew as they tak
 e you on a journey to experience an Indian wedding party filled with r
 ich colors, dancing Baraat street procession, dance lesson, dance per
 formances, live singing, DJs, drummers, live art, complimentary sweets
 , visuals, henna, and more.\nImagine a scene from a Bollywood movie sm
 ack in the middle of a thumping nightclub, swirling colors, the rhythm
  of pounding feet, relentless energy, and brilliant beats-that's Non S
 top Bhangra!\nSo bring out your inner Bollywood glam and come crash th
 e party. Get your tickets early for this one, it sells out every year!
 \nTickets & Info:http://nsb142.eventbrite.com\n\n \n\nFor more inform
 ation visit http://trueskool.com/events/non-stop-bhangra-crash-an-indi
 an-wedding-party-1
DTSTART;TZID=America/Los_Angeles:20180714T210000
DTEND;TZID=America/Los_Angeles:20180715T020000
CATEGORIES:"san francisco", "bay area"
LOCATION:Public Works, SF, CA
WEBSITE:http://nsb142.eventbrite.com
URL:http://nsb142.eventbrite.com
CONTACT:
ORGANIZER;CN="Non Stop Bhangra":http://trueskool.com/profile/NonStopBh
 angra
ATTACH;FMTTYPE="image/jpeg":http://storage.ning.com/topology/rest/1.0/
 file/get/2248006972?profile=original
ATTENDEE;ROLE=REQ-PARTICIPANT;PARTSTAT=ACCEPTED;RSVP=TRUE;CN="Non Stop
  Bhangra":http://trueskool.com/profile/NonStopBhangra
END:VEVENT
END:VCALENDAR
