BEGIN:VCALENDAR
PRODID:NingEventWidget-v1
VERSION:2.0
METHOD:PUBLISH
BEGIN:VTIMEZONE
TZID:America/Los_Angeles
X-LIC-LOCATION:America/Los_Angeles
BEGIN:DAYLIGHT
TZOFFSETFROM:-0800
TZOFFSETTO:-0700
TZNAME:PDT
DTSTART:19700308T020000
RRULE:FREQ=YEARLY;BYMONTH=3;BYDAY=2SU
END:DAYLIGHT
BEGIN:STANDARD
TZOFFSETFROM:-0700
TZOFFSETTO:-0800
TZNAME:PST
DTSTART:19701101T020000
RRULE:FREQ=YEARLY;BYMONTH=11;BYDAY=1SU
END:STANDARD
END:VTIMEZONE
BEGIN:VEVENT
UID:1464587:Event:653606
DTSTAMP:20260420T121213Z
SUMMARY:Non Stop Bhangra Celebrates 12 Years
DESCRIPTION: NON STOP BHANGRA CELEBRATES 12 YEARS!!!! What started as 
 a one off night has turned into one of a kind cultural experience, bri
 nging together some of most diverse crowds on a dance floor & become a
  staple in the culture and nightlife of SF. To celebrate, Non Stop Bha
 ngra is bringing back their favorite theme, Hip Hop meets Bhangra- a b
 angin night of laid back West Coast Hip-Hop laced with a heavy dose of
  Bhangra & Dhol beats, keeping heads bobbing and shoulders bouncing on
  the dance floor! A colorful night featuring dancers, dhol drummers, d
 j's, emcee's, dance lesson, dance performances, live hiphop set, dj se
 ts, visuals, live painting, thumping beats, and endless dancing. A tre
 at for the eyes and ears. If you've never been, imagine a scene from a
  bollywood movie smack in the middle of a thumping nightclub- swirlin
 g colors, the rhythm of pounding feet, & the relentless energy of bril
 liant beats! Come experience it!  \nMore Info & Ticket Link:http://nsb
 126.eventbrite.com\n\nFor more information visit http://trueskool.com/
 events/non-stop-bhangra-celebrates-12-years
DTSTART;TZID=America/Los_Angeles:20160924T210000
DTEND;TZID=America/Los_Angeles:20160925T020000
CATEGORIES:"san francisco", "bay area"
LOCATION:Public Works, SF
WEBSITE:http://nsb126.eventbrite.com
URL:http://nsb126.eventbrite.com
CONTACT:
ORGANIZER;CN="Non Stop Bhangra":http://trueskool.com/profile/NonStopBh
 angra
ATTACH;FMTTYPE="image/jpeg":http://storage.ning.com/topology/rest/1.0/
 file/get/2247990790?profile=original
ATTENDEE;ROLE=REQ-PARTICIPANT;PARTSTAT=ACCEPTED;RSVP=TRUE;CN="Non Stop
  Bhangra":http://trueskool.com/profile/NonStopBhangra
END:VEVENT
END:VCALENDAR
