BEGIN:VCALENDAR
PRODID:NingEventWidget-v1
VERSION:2.0
METHOD:PUBLISH
BEGIN:VTIMEZONE
TZID:America/Los_Angeles
X-LIC-LOCATION:America/Los_Angeles
BEGIN:DAYLIGHT
TZOFFSETFROM:-0800
TZOFFSETTO:-0700
TZNAME:PDT
DTSTART:19700308T020000
RRULE:FREQ=YEARLY;BYMONTH=3;BYDAY=2SU
END:DAYLIGHT
BEGIN:STANDARD
TZOFFSETFROM:-0700
TZOFFSETTO:-0800
TZNAME:PST
DTSTART:19701101T020000
RRULE:FREQ=YEARLY;BYMONTH=11;BYDAY=1SU
END:STANDARD
END:VTIMEZONE
BEGIN:VEVENT
UID:1464587:Event:406531
DTSTAMP:20260421T052820Z
SUMMARY:Non Stop Bhangra Celebrates 10 Years in SF
DESCRIPTION:This month Non Stop Bhangra is celebrating a milestone of 
 reaching 10 years of hosting this event in the San Francisco Bay area.
  What started off as a one off night turned into a staple of the night
 life in San Francisco Bay Area that has been bringing together people 
 of all ages, and walks of life for a decade. Words cannot quite descri
 be the dedication, commitment, and energy it has taken to keep this la
 bor of love alive and moving for this long. Big shout out of everyone 
 that has been a part of this collective and especially to the San Fran
 cisco Bay Area for supporting this unique experience and helping it su
 stain ints place in the music scene. This month, Non Stop Bhangra invi
 tes all of its fans, supporters, friends, family, and anyone who loves
  music, culture, community, and diversity to come out in numbers to re
 joice this amazing energy.To celebrate the milestone, Non Stop Bhangra
  is bringing together the whole crew and collective from past and pres
 ent, as well as local Dj's that have helped shape this night into what
  it is. As always the night will kick off with the ritual dance lesson
  and performances with the beautiful women of Dholrhythms Dance Compan
 y. Folllowing the lesson and performance will be a very special live s
 et that is sure to get you jumping with joy with some of Non Stop Bhan
 gra's crew members from past and present featuring ragaamuffin energy 
 of Mista Chatman and desi hip hop lyrical energy of the one and only M
 andeep Sethi mixing in sounds of reggae, hiphop, and Bhangra. In addit
 ion, DJ Santero and J. Boogie, NSB's longtime friends and guest DJ's a
 nd part of the local SF Bay Area music scene will be joining NSB's own
  DJ Jimmy Love and Rav-E on the decks alongside special guest DJ Scorp
 io (LA). Non Stop Bhangra Dhol (drummers) Pavit Deol and Mehul will be
  rocking the beats all night night long as VJ Amar keeps the visuals f
 lowing. Non Stop Bhangra's amazing photographer Odell Hussey will be i
 n the house capturing the energy. In addition, there will be a fun and
  funky photo booth area set up for everyone to get their selfies on.Sp
 read the word, bring friends, family, colorful vibes, smiles, and all 
 the positivity you can muster and come join the crew to help celebrate
  this amazing milestone and community that has been dancing together i
 n the SF Bay Area for a decade. If you have never made it out to Non S
 top Bhangra, here's your chance to experience one like never before, s
 o don't miss it!\n\nFor more information visit http://trueskool.com/ev
 ents/non-stop-bhangra-celebrates-10-years-in-sf
DTSTART;TZID=America/Los_Angeles:20140913T210000
DTEND;TZID=America/Los_Angeles:20140914T030000
CATEGORIES:nonstopbhangra, dholrhythms, publicworkssf
LOCATION:Public Works, SF, CA
WEBSITE:http://http:/nsb106.eventbrite.com
URL:http://http:/nsb106.eventbrite.com
CONTACT:
ORGANIZER;CN="Non Stop Bhangra":http://trueskool.com/profile/NonStopBh
 angra
ATTACH;FMTTYPE="image/jpeg":http://storage.ning.com/topology/rest/1.0/
 file/get/2247965059?profile=original
ATTENDEE;ROLE=REQ-PARTICIPANT;PARTSTAT=ACCEPTED;RSVP=TRUE;CN="Non Stop
  Bhangra":http://trueskool.com/profile/NonStopBhangra
END:VEVENT
END:VCALENDAR
