BEGIN:VCALENDAR
PRODID:NingEventWidget-v1
VERSION:2.0
METHOD:PUBLISH
BEGIN:VTIMEZONE
TZID:America/Los_Angeles
X-LIC-LOCATION:America/Los_Angeles
BEGIN:DAYLIGHT
TZOFFSETFROM:-0800
TZOFFSETTO:-0700
TZNAME:PDT
DTSTART:19700308T020000
RRULE:FREQ=YEARLY;BYMONTH=3;BYDAY=2SU
END:DAYLIGHT
BEGIN:STANDARD
TZOFFSETFROM:-0700
TZOFFSETTO:-0800
TZNAME:PST
DTSTART:19701101T020000
RRULE:FREQ=YEARLY;BYMONTH=11;BYDAY=1SU
END:STANDARD
END:VTIMEZONE
BEGIN:VEVENT
UID:1464587:Event:654425
DTSTAMP:20260421T002024Z
SUMMARY:Non Stop Bhangra #127-Diwali Celebration
DESCRIPTION: Non Stop Bhangra returns in October with installment #127
  celebrating Diwali (festival of lights). \nJoin the Non Stop Bhangra
  crew as they take you on another colorful journey with dance lesson, 
 dance performances, dj's, drummers, visuals, live art, sweets, henna, 
 beautifully dressed people, and joyful vibes. Imagine a scene from a b
 ollywood movie smack in the middle of a thumping nightclub-swirling co
 lors, rhyhm of pounding feet, relentless energy, and brilliant beats. 
 A treat for the eyes and ears and voted one of the best dance parties 
 in SF. Come experience it. \nMore details & ticket info http://nsb127
 .eventbrite.com\n\nFor more information visit http://trueskool.com/eve
 nts/non-stop-bhangra-127-diwali-celebration
DTSTART;TZID=America/Los_Angeles:20161022T210000
DTEND;TZID=America/Los_Angeles:20161023T020000
CATEGORIES:"san francisco", "bay area"
LOCATION:Public Works, SF
WEBSITE:http://nsb127.eventbrite.com
URL:http://nsb127.eventbrite.com
CONTACT:
ORGANIZER;CN="Non Stop Bhangra":http://trueskool.com/profile/NonStopBh
 angra
ATTACH;FMTTYPE="image/jpeg":http://storage.ning.com/topology/rest/1.0/
 file/get/2247991979?profile=original
ATTENDEE;ROLE=REQ-PARTICIPANT;PARTSTAT=ACCEPTED;RSVP=TRUE;CN="Non Stop
  Bhangra":http://trueskool.com/profile/NonStopBhangra
END:VEVENT
END:VCALENDAR
