BEGIN:VCALENDAR
PRODID:NingEventWidget-v1
VERSION:2.0
METHOD:PUBLISH
BEGIN:VTIMEZONE
TZID:America/Los_Angeles
X-LIC-LOCATION:America/Los_Angeles
BEGIN:DAYLIGHT
TZOFFSETFROM:-0800
TZOFFSETTO:-0700
TZNAME:PDT
DTSTART:19700308T020000
RRULE:FREQ=YEARLY;BYMONTH=3;BYDAY=2SU
END:DAYLIGHT
BEGIN:STANDARD
TZOFFSETFROM:-0700
TZOFFSETTO:-0800
TZNAME:PST
DTSTART:19701101T020000
RRULE:FREQ=YEARLY;BYMONTH=11;BYDAY=1SU
END:STANDARD
END:VTIMEZONE
BEGIN:VEVENT
UID:1464587:Event:649699
DTSTAMP:20260420T121454Z
SUMMARY:Non Stop Bhangra #124-\"Crash An Indian Wedding Party\"
DESCRIPTION: Ever wanted to crash an Indian Wedding Party? Well here's
  your chance to become part of that exuberant celebration with SF's vi
 brant production Non Stop Bhangra returning July 16th with its favorit
 e theme \"Crash an Indian Wedding Party\" Join the crew as they take y
 ou on a colorful journey to experience an Indian wedding party full wi
 th colorful vibes, dancers, drummers, singers, horn players, baraat mo
 b street procession, beautifully dressed people, sweets, henna, visual
 s, and endless dancing and music! Bring our your inner desi glam and c
 ome join the fun!!!  Saturday, July 16th Public Works161 Erie StreetSa
 n FranciscoMore Info & Tickets: http://nsb124.eventbrite.com\n\n\nFor 
 more information visit http://trueskool.com/events/non-stop-bhangra-12
 4-crash-an-indian-wedding-party
DTSTART;TZID=America/Los_Angeles:20160716T210000
DTEND;TZID=America/Los_Angeles:20160717T020000
CATEGORIES:"san francisco", "bay area"
LOCATION:Public Works, SF
WEBSITE:http://nsb124.eventbrite.com
URL:http://nsb124.eventbrite.com
CONTACT:
ORGANIZER;CN="Non Stop Bhangra":http://trueskool.com/profile/NonStopBh
 angra
ATTACH;FMTTYPE="image/jpeg":http://storage.ning.com/topology/rest/1.0/
 file/get/2247988460?profile=original
ATTENDEE;ROLE=REQ-PARTICIPANT;PARTSTAT=ACCEPTED;RSVP=TRUE;CN="Non Stop
  Bhangra":http://trueskool.com/profile/NonStopBhangra
END:VEVENT
END:VCALENDAR
