BEGIN:VCALENDAR
PRODID:NingEventWidget-v1
VERSION:2.0
METHOD:PUBLISH
BEGIN:VTIMEZONE
TZID:America/Los_Angeles
X-LIC-LOCATION:America/Los_Angeles
BEGIN:DAYLIGHT
TZOFFSETFROM:-0800
TZOFFSETTO:-0700
TZNAME:PDT
DTSTART:19700308T020000
RRULE:FREQ=YEARLY;BYMONTH=3;BYDAY=2SU
END:DAYLIGHT
BEGIN:STANDARD
TZOFFSETFROM:-0700
TZOFFSETTO:-0800
TZNAME:PST
DTSTART:19701101T020000
RRULE:FREQ=YEARLY;BYMONTH=11;BYDAY=1SU
END:STANDARD
END:VTIMEZONE
BEGIN:VEVENT
UID:1464587:Event:646254
DTSTAMP:20260420T214901Z
SUMMARY:Non Stop Bhangra #123-Special Guests Delhi 2 Dublin
DESCRIPTION:\nNon Stop Bhangra returns on April 23rd with installment
  #123 with Delhi 2 Dublin, a hybrid live/electronic act whose concerts
  have been likened to '90 minutes of freebasing joy'. Famous for their
  energy onstage, D2D has played over 100 shows a year for the last dec
 ade at festivals nationally and internationally! Headed back to the Ba
 y Area after a wicked tour in India, this time Delhi 2 Dublin is bring
 ing a special hybrid/DJ live set with the three founding members featu
 ring a heavy electronic backbone, live traditional Indian instruments 
 (dhol, tabla) and the stunning punjabi-english vocals!\nThe entire No
 n Stop Bhangra crew will be in the house to round out the mix with da
 nce lesson/performances with Dholrhythms Dance Company, DJ's sets wit
 h NSB's own DJ Jimmy Love and Rav-E, live painting, live dhol, visu
 als, and more!!!\nNon Stop Bhangra plus Delhi 2 Dublin is one hell 
 of dance party and one of our most hyped shows every year. So grab you
 r tickets early and come experience a next level night of dancing.\nPr
 e-Sale Tickets & More Info: http://nsb123.eventbrite.com\n\n\n\n\nFor
  more information visit http://trueskool.com/events/non-stop-bhangra-1
 23-special-guests-delhi-2-dublin
DTSTART;TZID=America/Los_Angeles:20160423T210000
DTEND;TZID=America/Los_Angeles:20160424T020000
CATEGORIES:nonstopbhangra, dholrhythms, publicworkssf
LOCATION:Public Works, SF
WEBSITE:http://nsb123.eventbrite.com
URL:http://nsb123.eventbrite.com
CONTACT:
ORGANIZER;CN="Non Stop Bhangra":http://trueskool.com/profile/NonStopBh
 angra
ATTACH;FMTTYPE="image/jpeg":http://storage.ning.com/topology/rest/1.0/
 file/get/2247985685?profile=original
ATTENDEE;ROLE=REQ-PARTICIPANT;PARTSTAT=ACCEPTED;RSVP=TRUE;CN="Non Stop
  Bhangra":http://trueskool.com/profile/NonStopBhangra
END:VEVENT
END:VCALENDAR
