BEGIN:VCALENDAR
PRODID:NingEventWidget-v1
VERSION:2.0
METHOD:PUBLISH
BEGIN:VTIMEZONE
TZID:America/Los_Angeles
X-LIC-LOCATION:America/Los_Angeles
BEGIN:DAYLIGHT
TZOFFSETFROM:-0800
TZOFFSETTO:-0700
TZNAME:PDT
DTSTART:19700308T020000
RRULE:FREQ=YEARLY;BYMONTH=3;BYDAY=2SU
END:DAYLIGHT
BEGIN:STANDARD
TZOFFSETFROM:-0700
TZOFFSETTO:-0800
TZNAME:PST
DTSTART:19701101T020000
RRULE:FREQ=YEARLY;BYMONTH=11;BYDAY=1SU
END:STANDARD
END:VTIMEZONE
BEGIN:VEVENT
UID:1464587:Event:645004
DTSTAMP:20260421T002313Z
SUMMARY:Non Stop Bhangra #122-House Of Bhangra
DESCRIPTION:\nEver been to Non Stop Bhangra? Featuring dancers, djs, d
 rummers, visuals, live painting, dance lesson, performances, relentles
 s energy, brilliant beats and more, Non Stop Bhangra is a treat for th
 e eyes and ears and voted one of the best dance nights in SF. With swi
 rling colors and pulsing 4-4 beats in common, this month the night is 
 mashing up the colorful magic with the uptempo passion of Electronic M
 usic. Featuring the famed Funktion One sound system of The Public Work
 s SF, live drums will be in the house to help with building up to some
  epic drops while the contagious dhol drum beats of Bhangra keep you b
 ouncing until the wee hours! Come Experience one of a kind night only 
 found in SF! More Info & Details: http://nsb122.eventbrite.com\n\n\nF
 or more information visit http://trueskool.com/events/non-stop-bhangra
 -122-house-of-bhangra
DTSTART;TZID=America/Los_Angeles:20160326T210000
DTEND;TZID=America/Los_Angeles:20160327T020000
CATEGORIES:"san francisco", "bay area"
LOCATION:Public Works, SF
WEBSITE:http://nsb122.eventbrite.com
URL:http://nsb122.eventbrite.com
CONTACT:
ORGANIZER;CN="Non Stop Bhangra":http://trueskool.com/profile/NonStopBh
 angra
ATTACH;FMTTYPE="image/jpeg":http://storage.ning.com/topology/rest/1.0/
 file/get/2247985890?profile=original
ATTENDEE;ROLE=REQ-PARTICIPANT;PARTSTAT=ACCEPTED;RSVP=TRUE;CN="Non Stop
  Bhangra":http://trueskool.com/profile/NonStopBhangra
END:VEVENT
END:VCALENDAR
