BEGIN:VCALENDAR
PRODID:NingEventWidget-v1
VERSION:2.0
METHOD:PUBLISH
BEGIN:VTIMEZONE
TZID:America/Los_Angeles
X-LIC-LOCATION:America/Los_Angeles
BEGIN:DAYLIGHT
TZOFFSETFROM:-0800
TZOFFSETTO:-0700
TZNAME:PDT
DTSTART:19700308T020000
RRULE:FREQ=YEARLY;BYMONTH=3;BYDAY=2SU
END:DAYLIGHT
BEGIN:STANDARD
TZOFFSETFROM:-0700
TZOFFSETTO:-0800
TZNAME:PST
DTSTART:19701101T020000
RRULE:FREQ=YEARLY;BYMONTH=11;BYDAY=1SU
END:STANDARD
END:VTIMEZONE
BEGIN:VEVENT
UID:1464587:Event:642299
DTSTAMP:20260420T182755Z
SUMMARY:Non Stop Bhangra #121--Hip Hop Meets Bhangra Month
DESCRIPTION:Non Stop Bhangra returns with installment #121 bringing ba
 ck the popular theme of Hip Hop Meets Bhangra. A mashup night Laid ba
 ck West Coast Hip-Hop laced with a heavy dose of Bhangra & Dhol beats,
  keeping heads bobbing and shoulders bouncing on the dance floor! One 
 of a kind night featuring dance lesson, dance performances, djs, live
  music, drumming, and one of the most eclectic crowds seen on a dance 
 floor. A treat for the eyes and ears!More info & tickets: http://nsb12
 1.eventbrite.com\n\nFor more information visit http://trueskool.com/ev
 ents/non-stop-bhangra-121-hip-hop-meets-bhangra-month
DTSTART;TZID=America/Los_Angeles:20160228T210000
DTEND;TZID=America/Los_Angeles:20160229T020000
CATEGORIES:"san francisco", "bay area"
LOCATION:Public Works, SF
WEBSITE:http://nsb121.eventbrite.com
URL:http://nsb121.eventbrite.com
CONTACT:
ORGANIZER;CN="Non Stop Bhangra":http://trueskool.com/profile/NonStopBh
 angra
ATTACH;FMTTYPE="image/jpeg":http://storage.ning.com/topology/rest/1.0/
 file/get/2247983415?profile=original
ATTENDEE;ROLE=REQ-PARTICIPANT;PARTSTAT=ACCEPTED;RSVP=TRUE;CN="Non Stop
  Bhangra":http://trueskool.com/profile/NonStopBhangra
END:VEVENT
END:VCALENDAR
