BEGIN:VCALENDAR
PRODID:NingEventWidget-v1
VERSION:2.0
METHOD:PUBLISH
BEGIN:VTIMEZONE
TZID:America/Los_Angeles
X-LIC-LOCATION:America/Los_Angeles
BEGIN:DAYLIGHT
TZOFFSETFROM:-0800
TZOFFSETTO:-0700
TZNAME:PDT
DTSTART:19700308T020000
RRULE:FREQ=YEARLY;BYMONTH=3;BYDAY=2SU
END:DAYLIGHT
BEGIN:STANDARD
TZOFFSETFROM:-0700
TZOFFSETTO:-0800
TZNAME:PST
DTSTART:19701101T020000
RRULE:FREQ=YEARLY;BYMONTH=11;BYDAY=1SU
END:STANDARD
END:VTIMEZONE
BEGIN:VEVENT
UID:1464587:Event:625498
DTSTAMP:20260420T215034Z
SUMMARY:Non Stop Bhangra #112 w/Special Guests Delhi 2 Dublin Live
DESCRIPTION:Non Stop Bhangra returns with installment #112 on April 25
 th featuring our long time friends and yearly guests Delhi 2 Dublin li
 ve. Hour Magazine wrote that “Delhi 2 Dublin\" is the United Nations
  of rock ‘n’ roll”. They are a Vancouver based band that plays a
 n energetic mash-up of Bhangra, Celtic, Rock, Dub Reggae and Electroni
 ca. They have been together over eight years and released six albums a
 nd an EP. The Delhi 2 Dublin crew is constantly touring. The musicians
  feel that they plug directly into the world’s music and energy. The
  strong word-of-mouth for their live performances has enabled them to 
 build a loyal fan base. Originality and evolution are all part of the
  Delhi 2 Dublin experience. As a result, they have become one of Canad
 a’s most buzzed-about bands. The music on their album was described 
 as “full dancing rhythms and intelligent instrumentation. The tracks
  are energetic and uplifting. The sounds that Delhi 2 Dublin makes are
  a colourful, catchy mishmash”. They always bring such fantastic ene
 rgy to the night and we love having them at Non Stop Bhangra.\n\nRound
 ing out the mix, the Non Stop Bhangra crew will be in full effect brin
 ging the usual colorful energy and vibes to the night. As Always, the 
 night will kick off with the ritual Bhangra dance lesson followed with
  vibrant dance performances by the beautiful Dholrhythms Dance Company
  and DJ sets with Jimmy Love, Rav-E, and DJ Nix alongside live dhol dr
 ummingwith NSB's dholie Pavit Deol to keep you moving all night. Non S
 top Bhangra caters to your eyes with a special live painting by Marcus
  Murray and visuals by Amar! NSB's photographer Odell Hussey will be i
 n the house to capture all the energy.\n\nIf you have never made it ou
 t to Non Stop Bhangra event, it's one of a kind night featuring vibran
 t music, performances, live music, drumming, and one of the most eclec
 tic crowds seen on a dance floor. So much more than just a club night,
  Non Stop Bhangra has truly turned into one of a kind cultural experie
 nce only found in the Bay Area.\n\nDETAILS::::::::::::::::::::::::::::
 :::::::::::::::::::::::::: NON STOP BHANGRA #112\nSpecial Guests Delhi
  2 Dublin\n\nSaturday, April 25th\nPublic Works\n161 Erie Street\nSan 
 Francisco\n\nCover:\n$20 pre-sale(no surcharge)/$25 door\n***cash only
  bar\nPre-Sale Tickets: http://www.nsb112.eventbrite.com/ \n\n\nFor m
 ore information visit http://trueskool.com/events/non-stop-bhangra-112
 -w-special-guests-delhi-2-dublin-live
DTSTART;TZID=America/Los_Angeles:20150425T210000
DTEND;TZID=America/Los_Angeles:20150426T030000
CATEGORIES:"san francisco", "bay area"
LOCATION:Public Works, SF, CA
WEBSITE:http://http:/nsb112.eventbrite.com
URL:http://http:/nsb112.eventbrite.com
CONTACT:
ORGANIZER;CN="Non Stop Bhangra":http://trueskool.com/profile/NonStopBh
 angra
ATTACH;FMTTYPE="image/jpeg":http://storage.ning.com/topology/rest/1.0/
 file/get/2247974628?profile=original
ATTENDEE;ROLE=REQ-PARTICIPANT;PARTSTAT=ACCEPTED;RSVP=TRUE;CN="Non Stop
  Bhangra":http://trueskool.com/profile/NonStopBhangra
END:VEVENT
END:VCALENDAR
