BEGIN:VCALENDAR
PRODID:NingEventWidget-v1
VERSION:2.0
METHOD:PUBLISH
BEGIN:VTIMEZONE
TZID:America/Los_Angeles
X-LIC-LOCATION:America/Los_Angeles
BEGIN:DAYLIGHT
TZOFFSETFROM:-0800
TZOFFSETTO:-0700
TZNAME:PDT
DTSTART:19700308T020000
RRULE:FREQ=YEARLY;BYMONTH=3;BYDAY=2SU
END:DAYLIGHT
BEGIN:STANDARD
TZOFFSETFROM:-0700
TZOFFSETTO:-0800
TZNAME:PST
DTSTART:19701101T020000
RRULE:FREQ=YEARLY;BYMONTH=11;BYDAY=1SU
END:STANDARD
END:VTIMEZONE
BEGIN:VEVENT
UID:1464587:Event:612637
DTSTAMP:20260420T214955Z
SUMMARY:Non Stop Bhangra #111--British Invasion Month-Ft. Special Gues
 t Bobby Friction (BBC, Radio 1-UK)
DESCRIPTION:\nThis month Non Stop Bhangra Returns with installment #11
 1 doing a British Invasion Theme! The UK's impact on Bhangra is unpara
 lleled to any other place outside of India. It has helped spring board
  the punjabi sound into the West and has been quintessential for North
  America's love to the culture of Punjab and one of the reasons events
  such as Non Stop Bhangra exist.\nSo Non Stop Bhangra is excited to ho
 st one of their favorite personalities in South Asian Music scene, Bob
 by Friction who has made a career out of representing British Asian so
 und on the turntables, as a recording artist and on-air with many awar
 ds to his name including \"Best Radio Show\" at the UK Asian Music Awa
 rds. This will be his first time at NSB and we are looking forward to 
 having him in the mix.\nAs always a night unlike any other awaits to b
 low up your eyes and ears and take your body to those happy dancing re
 alms! Mark your calendar, spread the word, and come get down with us!\
 nSaturday, March 28th at Public Works in SF \nPre-Sale Tickets & More
  Info:  http://nsb111.eventbrite.com\n\n\nFor more information visit 
 http://trueskool.com/events/non-stop-bhangra-111-british-invasion-mont
 h-ft-special-guest
DTSTART;TZID=America/Los_Angeles:20150328T210000
DTEND;TZID=America/Los_Angeles:20150329T030000
CATEGORIES:"san francisco", "bay area"
LOCATION:Public Works, SF, CA
WEBSITE:http://http:/nsb111.eventbrite.com
URL:http://http:/nsb111.eventbrite.com
CONTACT:
ORGANIZER;CN="Non Stop Bhangra":http://trueskool.com/profile/NonStopBh
 angra
ATTACH;FMTTYPE="image/jpeg":http://storage.ning.com/topology/rest/1.0/
 file/get/2247974290?profile=original
ATTENDEE;ROLE=REQ-PARTICIPANT;PARTSTAT=ACCEPTED;RSVP=TRUE;CN="Non Stop
  Bhangra":http://trueskool.com/profile/NonStopBhangra
END:VEVENT
END:VCALENDAR
