BEGIN:VCALENDAR
PRODID:NingEventWidget-v1
VERSION:2.0
METHOD:PUBLISH
BEGIN:VTIMEZONE
TZID:America/Los_Angeles
X-LIC-LOCATION:America/Los_Angeles
BEGIN:DAYLIGHT
TZOFFSETFROM:-0800
TZOFFSETTO:-0700
TZNAME:PDT
DTSTART:19700308T020000
RRULE:FREQ=YEARLY;BYMONTH=3;BYDAY=2SU
END:DAYLIGHT
BEGIN:STANDARD
TZOFFSETFROM:-0700
TZOFFSETTO:-0800
TZNAME:PST
DTSTART:19701101T020000
RRULE:FREQ=YEARLY;BYMONTH=11;BYDAY=1SU
END:STANDARD
END:VTIMEZONE
BEGIN:VEVENT
UID:1464587:Event:327058
DTSTAMP:20260421T003955Z
SUMMARY:Non Stop Bhangra #102--An East Bay Month Ft. Special Guest Mic
 key Singh!
DESCRIPTION:NON STOP BHANGRA #102  AN EAST BAY MONTH  Saturday, April 
 19th New Parish 579 18th Street Oakland  Cover: $15 pre-sale/$20 door 
 pre-sale link: http://www.nsb102.eventbrite.com/  18+  Time: 8:00pm-2:
 00am Doors: 8:00pm Bhangra Lesson: 9:30pm Dholrhythms Dance Company: 1
 0:00pm Music (DJ's & Mickey Singh): 10:30pm-close  Hosted by: Mandeep 
 Sethi  Special Guest Headliner Mickey Singh (Detroit)  Non Stop Bhangr
 a Crew: Dholrhythms Dance Company DJ Jimmy Love DJ Rav-E DJ Mistry Pav
 it (Dhol) Mehul (Dhol) Odell Hussey (photos)  NON STOP BHANGRA COMES T
 O THE EAST BAY!!! After years of feedback from people about bringing N
 on Stop Bhangra night to the East Bay and making it accessible to peop
 le 18 and over, this month we are making it happen. In April, Non Stop
  Bhangra takes its award winning monthly production and ventures out t
 o the East Bay to the New Parish in Oakland to share the experience on
  this side of the bridge.  Still holding to its tradition, the night w
 ill start off with the ritual interactive Bhangra dance lesson followe
 d by performances by the lovely ladies of Dholrhythms Dance Company. T
 his month we are excited to feature special guest headliner Mickey Sin
 gh performing live for the first time at Non Stop Bhangra. The journey
  will continue with Non Stop Bhangra DJ's DJ Jimmy Love and DJ Rav-E s
 pinning the latest and greatest Bhangra tunes to keep you moving all n
 ight alongside our drummers Pavit and Mehul spicing up the night with 
 banging Dhol beats. The night will be hosted by the one and only Mande
 ep Sethi, a California grown Emcee and an active contributor to Indiaâ
 €™s blooming hip-hop scene.  Whether you are exploring a new culture f
 or the first time or addicted to the music and its essence, this will 
 be one night where you can get away from it all and dance the night aw
 ay. So much more than just a club night, Non Stop Bhangra has truly tu
 rned into one of a kind cultural experience only found in the Bay Area
 . If you have never made it out to a Non Stop Bhangra night, hereâ€™s 
 your chance to experience it on this side of the Bay. Donâ€™t miss it!
  \n\nFor more information visit http://trueskool.com/events/non-stop-b
 hangra-102-an-east-bay-month-ft-special-guest-mickey
DTSTART;TZID=America/Los_Angeles:20140419T200000
DTEND;TZID=America/Los_Angeles:20140420T020000
CATEGORIES:sfbayarea, oakland
LOCATION:The New Parish
WEBSITE:http://nsb102.eventbrite.com/
URL:http://nsb102.eventbrite.com/
CONTACT:415-694-9080
ORGANIZER;CN="Non Stop Bhangra":http://trueskool.com/profile/NonStopBh
 angra
ATTACH;FMTTYPE="image/jpeg":http://storage.ning.com/topology/rest/1.0/
 file/get/2247958084?profile=original
ATTENDEE;ROLE=REQ-PARTICIPANT;PARTSTAT=ACCEPTED;RSVP=TRUE;CN="Non Stop
  Bhangra":http://trueskool.com/profile/NonStopBhangra
END:VEVENT
END:VCALENDAR
