BEGIN:VCALENDAR
PRODID:NingEventWidget-v1
VERSION:2.0
METHOD:PUBLISH
BEGIN:VTIMEZONE
TZID:America/Los_Angeles
X-LIC-LOCATION:America/Los_Angeles
BEGIN:DAYLIGHT
TZOFFSETFROM:-0800
TZOFFSETTO:-0700
TZNAME:PDT
DTSTART:19700308T020000
RRULE:FREQ=YEARLY;BYMONTH=3;BYDAY=2SU
END:DAYLIGHT
BEGIN:STANDARD
TZOFFSETFROM:-0700
TZOFFSETTO:-0800
TZNAME:PST
DTSTART:19701101T020000
RRULE:FREQ=YEARLY;BYMONTH=11;BYDAY=1SU
END:STANDARD
END:VTIMEZONE
BEGIN:VEVENT
UID:1464587:Event:675136
DTSTAMP:20260420T165851Z
SUMMARY:Nipsey Hussle
DESCRIPTION:ENTER TO WIN A PAIR OF TICKETS. WINNER WILL BE DRAWN RANDO
 MLY AND ANNOUNCED 2 DAYS PRIOR TO EVENT.\r\n\r\nWed, Jun 27, 2018 \r\n
 Nipsey Hussle\r\nThe Warfield 982 Market Street San Francisco, CA 9410
 2 (415) 345-0900\r\n- 8:00PM Ages: All Ages Doors Open: 7:00 PM\r\nDoo
 r Price: Starting from: $35.00>> BUY TICKETS\r\n\n\nFor more informati
 on visit http://trueskool.com/events/nipsey-hussle
DTSTART;TZID=America/Los_Angeles:20180627T200000
DTEND;TZID=America/Los_Angeles:20180627T230000
CATEGORIES:"bay area", oakland, "san francisco", "san jose", berkeley
LOCATION:THE WARFIELD, SF
WEBSITE:https://www.axs.com/events/353463/nipsey-hussle-tickets?skin=w
 arfield
URL:https://www.axs.com/events/353463/nipsey-hussle-tickets?skin=warfi
 eld
CONTACT:
ORGANIZER;CN="Editor's Pick":http://trueskool.com/profile/RentheVinylA
 rchaeologist
ATTACH;FMTTYPE="image/jpeg":http://storage.ning.com/topology/rest/1.0/
 file/get/2248005899?profile=original
ATTENDEE;ROLE=REQ-PARTICIPANT;PARTSTAT=ACCEPTED;RSVP=TRUE;CN="Editor's
  Pick":http://trueskool.com/profile/RentheVinylArchaeologist
END:VEVENT
END:VCALENDAR
