BEGIN:VCALENDAR
PRODID:NingEventWidget-v1
VERSION:2.0
METHOD:PUBLISH
BEGIN:VTIMEZONE
TZID:America/Los_Angeles
X-LIC-LOCATION:America/Los_Angeles
BEGIN:DAYLIGHT
TZOFFSETFROM:-0800
TZOFFSETTO:-0700
TZNAME:PDT
DTSTART:19700308T020000
RRULE:FREQ=YEARLY;BYMONTH=3;BYDAY=2SU
END:DAYLIGHT
BEGIN:STANDARD
TZOFFSETFROM:-0700
TZOFFSETTO:-0800
TZNAME:PST
DTSTART:19701101T020000
RRULE:FREQ=YEARLY;BYMONTH=11;BYDAY=1SU
END:STANDARD
END:VTIMEZONE
BEGIN:VEVENT
UID:1464587:Event:365163
DTSTAMP:20260420T220901Z
SUMMARY:Night Fever: BEHIND THE GROOVE
DESCRIPTION:\"Night Fever: BEHIND THE GROOVE\" Featuring DJ Jeff Harri
 s spinning classic 70's and 80's Disco and Funk Classics, mixed with l
 ove and care on two turntables. KC & The Sunshine Band, Donna Summer, 
 Bee Gees, Gloria Gaynor, Cheryl Lynn, Cameo, Slave, Marvin Gaye, Micha
 el Jackson, Chic, Alicia Bridges, Tavares, MFSB, The O'Jays, Earth, Wi
 nd & Fire, Prince, ABBA, Sylvester, Parliament/Funkadelic, Foxy, Narad
 a Michael Walden, Rufus & Chaka Khan, Wild Cherry, Brick, Bionic Boogi
 e, Michael Zager Band, Patrick Hernandez, Peter Brown, Con Funk Shun, 
 The Brothers Johnson, Carrie Lucas, The Whispers, Shalamar, Norma Jean
  Wright, The Sylvers, The Isley Brothers, Diana Ross, Thelma Houston, 
 The Commodores, and many, many more!!! Some of the greatest dance musi
 c ever, in the mix. Your favorites, and ones that will soon be. If you
 've come down with night fever, then the only prescription is to get \
 "BEHIND THE GROOVE!!!\" Brace yourselves for a new \"Experience\". It 
 will be epic!! Thursday, June 5, 2014 Madrone Art Bar 500 Divisidero @
  Fell 9PM - 2AM/No Cover/21+\n\nFor more information visit http://true
 skool.com/events/night-fever-behind-the-groove-2
DTSTART;TZID=America/Los_Angeles:20140605T210000
DTEND;TZID=America/Los_Angeles:20140606T013000
CATEGORIES:disco, dance, funk, "r&b", san, francisco, bay, area, weste
 rn, addition
LOCATION:Madrone Art Bar
WEBSITE:http://www.madroneartbar.com
URL:http://www.madroneartbar.com
CONTACT:415-241-0202
ORGANIZER;CN="Jeff Harris":http://trueskool.com/profile/JeffHarris
ATTACH;FMTTYPE="image/jpeg":http://storage.ning.com/topology/rest/1.0/
 file/get/2247959702?profile=original
ATTENDEE;ROLE=REQ-PARTICIPANT;PARTSTAT=ACCEPTED;RSVP=TRUE;CN="Jeff Har
 ris":http://trueskool.com/profile/JeffHarris
END:VEVENT
END:VCALENDAR
