BEGIN:VCALENDAR
PRODID:NingEventWidget-v1
VERSION:2.0
METHOD:PUBLISH
BEGIN:VTIMEZONE
TZID:America/Los_Angeles
X-LIC-LOCATION:America/Los_Angeles
BEGIN:DAYLIGHT
TZOFFSETFROM:-0800
TZOFFSETTO:-0700
TZNAME:PDT
DTSTART:19700308T020000
RRULE:FREQ=YEARLY;BYMONTH=3;BYDAY=2SU
END:DAYLIGHT
BEGIN:STANDARD
TZOFFSETFROM:-0700
TZOFFSETTO:-0800
TZNAME:PST
DTSTART:19701101T020000
RRULE:FREQ=YEARLY;BYMONTH=11;BYDAY=1SU
END:STANDARD
END:VTIMEZONE
BEGIN:VEVENT
UID:1464587:Event:663507
DTSTAMP:20260420T202213Z
SUMMARY:Nigerian Afrobeat Superstar J. Martins Live In Oakland. Ca
DESCRIPTION:skyconcepts present Afrobeat legend from West African Nig
 erian \" J. Martins Live In Oakland. Saturday, June 24th  at level 13
 , 341 13th St. Oakland. Ca, from 9pm-2am (show begins at 11:30 pm) Hos
 ted by skyconcepts. get your ticket at www.Jmartinsliveinoakland.even
 tbrite.com. We will see you there. Thanks\n\nFor more information visi
 t http://trueskool.com/events/nigerian-afrobeat-superstar-j-martins-li
 ve-in-oakland-ca
DTSTART;TZID=America/Los_Angeles:20170624T210000
DTEND;TZID=America/Los_Angeles:20170625T020000
CATEGORIES:bay, area
LOCATION:Level 13
WEBSITE:http://www.jmartinsliveinoakland.eventbrite.com
URL:http://www.jmartinsliveinoakland.eventbrite.com
CONTACT:415-794-3230
ORGANIZER;CN=Oscar:http://trueskool.com/profile/Oscar
ATTACH;FMTTYPE="image/jpeg":
ATTENDEE;ROLE=REQ-PARTICIPANT;PARTSTAT=ACCEPTED;RSVP=TRUE;CN=Oscar:htt
 p://trueskool.com/profile/Oscar
END:VEVENT
END:VCALENDAR
