BEGIN:VCALENDAR
PRODID:NingEventWidget-v1
VERSION:2.0
METHOD:PUBLISH
BEGIN:VTIMEZONE
TZID:America/Los_Angeles
X-LIC-LOCATION:America/Los_Angeles
BEGIN:DAYLIGHT
TZOFFSETFROM:-0800
TZOFFSETTO:-0700
TZNAME:PDT
DTSTART:19700308T020000
RRULE:FREQ=YEARLY;BYMONTH=3;BYDAY=2SU
END:DAYLIGHT
BEGIN:STANDARD
TZOFFSETFROM:-0700
TZOFFSETTO:-0800
TZNAME:PST
DTSTART:19701101T020000
RRULE:FREQ=YEARLY;BYMONTH=11;BYDAY=1SU
END:STANDARD
END:VTIMEZONE
BEGIN:VEVENT
UID:1464587:Event:657191
DTSTAMP:20260421T121051Z
SUMMARY:NEW YEARS EVE w CONFUNKSHUN & TORTILLA SOUP
DESCRIPTION:Tortilla Soup Music Inc. presents a New Year's Celebration
  to Remember......\nCome join us as we bring in the new year with the 
 heros of funk, the one and only....CONFUNKSHUN !! (http://confunkshunu
 sa.com)Also performing is San Jose's own......TORTILLA SOUP !!\n\n@ th
 e Wonderful Santa Clara Convention Center\n 5001 Great America Parkwa
 ySanta Clara, California 95054\n\nSo let this year end & the new year 
 celebration begin!!with HOR D'UERVES ~ DANCING ~ PARTY FAVORS\n& LIVE 
 ENTERTAINMENT (Hor d'uerves will be served throughout the evening)\nD
 RESS CODE STRICTLY  ENFORCED:ATTIRE: FORMAL/SEMI-FORMAL - CLUB-DRESSY
  -\nTICKETS: $75 – $850 Available @ www.newyearsevesj.eventbrite.com
 or call:408-828-3229ALL SALES ARE FINAL. NO REFUNDS.\nWE ARE LESS THEN
  TWO WEEKS AWAY !!!ALL V.I.P SEATS ARE SOLD OUT.... SILVER AND BRONZE 
 SECTION STILL AVL AT $85 AND $75 EACH\nCONFUNKSHUN AND TORTILLA SOUP w
 ith DJ JAMMIN J SANTA CLARA CONVECTION CENTER DEC 31ST 7PM-1AM\nSpecia
 l Hotel rates at 2 hotels for New Years Eve w/Tortilla Soup and Con Fu
 nk Shun !!\nHOTEL IN THE AREA:1) The Biltmore Hotel, 2151 Laurelwood R
 oad, Santa Clara. Call (408) 988-8411\n2) Marriott Santa Clara, 2700 M
 ission College Blvd, Santa Clara, CA 95054. Call (408) 988-1500\nSORRY
  ALL ROOMS  UNDER THE TORTILLA SOUP ROOM BLOCK - SOLD OUT.\n\nFor mor
 e information visit http://trueskool.com/events/new-years-eve-w-confun
 kshun-tortilla-soup
DTSTART;TZID=America/Los_Angeles:20161231T190000
DTEND;TZID=America/Los_Angeles:20170101T010000
CATEGORIES:new, years, eve, confunkshun, tortilla, soup, san, jose, pa
 rty, concert
LOCATION:SANTA CLARA CONVENTION CENTER
WEBSITE:http://www.newyearsevesj.evenbrite.com
URL:http://www.newyearsevesj.evenbrite.com
CONTACT:408-828-3229
ORGANIZER:Tortilla Soup & A-List Musiq Cilcle
ATTACH;FMTTYPE="image/jpeg":http://storage.ning.com/topology/rest/1.0/
 file/get/2247994056?profile=original
ATTENDEE;ROLE=REQ-PARTICIPANT;PARTSTAT=ACCEPTED;RSVP=TRUE;CN="A-List M
 usiq Cilcle":http://trueskool.com/profile/AListMusiqCilcle
END:VEVENT
END:VCALENDAR
