BEGIN:VCALENDAR
PRODID:NingEventWidget-v1
VERSION:2.0
METHOD:PUBLISH
BEGIN:VTIMEZONE
TZID:America/Los_Angeles
X-LIC-LOCATION:America/Los_Angeles
BEGIN:DAYLIGHT
TZOFFSETFROM:-0800
TZOFFSETTO:-0700
TZNAME:PDT
DTSTART:19700308T020000
RRULE:FREQ=YEARLY;BYMONTH=3;BYDAY=2SU
END:DAYLIGHT
BEGIN:STANDARD
TZOFFSETFROM:-0700
TZOFFSETTO:-0800
TZNAME:PST
DTSTART:19701101T020000
RRULE:FREQ=YEARLY;BYMONTH=11;BYDAY=1SU
END:STANDARD
END:VTIMEZONE
BEGIN:VEVENT
UID:1464587:Event:57238
DTSTAMP:20260422T075110Z
SUMMARY:N.E.R.D vs TIMBALAND W/ DJ HENROC DJ TROUBLEMAN
DESCRIPTION:Eve Lounge & Select Soul Present:\n\nN.E.R.D vs TIMBALAND\
 n\nMove to selections from two of the most influential artists and pro
 ducers of the 1990’s and early 2000’s. They have made hits spannin
 g multiple genres and taken Hip Hop and R&B to new heights. This will 
 be fun ya’ll! :)\n\nTurntable Love By:\n\nDJ HENROC (City Cat Sound)
 \nDJ TROUBLEMAN (Select Soul)\n\n\nN.E.R.D vs TIMBALAND\n@ Eve Lounge\
 n575 Howard @ 2nd St – Sf\n21 & Up\nNO COVER!!\nStyle Required\nTabl
 e Reserve & Bottle Service: party@eveloungesf.com\n\nN.E.R.D.\n\nPharr
 ell Williams and Chad Hugo met at the ages of 12 at a summer camp in V
 irginia Beach, for musicians; which they both disliked. They spent the
 ir free time making beats and performing in groups with fellow childho
 od friend Timbaland. Williams and Hugo met Shay Haley in high school a
 nd began performing together. The trio often met in Hugo's garage, whe
 re he beatboxed through a speaker system while Haley danced. After wat
 ching the duo perform at a high school talent show, Teddy Riley, a mus
 ician and producer, signed Williams and Hugo in 1992. After producing 
 songs for several artists throughout the late 1990s and early 2000s, t
 he production duo formed N.E.R.D (an acronym for No one Ever Really Di
 es) in 2001 as a side project.\n\nThe band's sound generally contains 
 elements of rock, funk and hip hop, while also encompassing R&B and po
 p.\n\nTIMBALAND\n\nTimothy Z. Mosley AKA Timbaland, so named by Jodeci
  member Devante Swing after the Timberland boot, has had many reincarn
 ations--from disc jockey DJ Tiny Tim to half of the hip hop group Timb
 aland & Magoo; from membership in Devante Swing’s Swing Mob crew kno
 wn as Da Bassment to S.B.I. (Surrounded By Idiots), a production ensem
 ble including Pharrell Williams, to being CEO of his own label, Mosley
  Music Group.\n\nGinuwine’s hit single “Pony” and debut LP Ginuw
 ine…the Bachelor, produced by Timbaland, introduced a unique rhythmi
 c style that defined the new wave of music in the ‘90s--R&B and hip 
 hop mixed with an eclectic smorgasbord of effects held together by com
 plex syncopated snare beats.\n\nFor more information visit http://true
 skool.com/events/nerd-vs-timbaland-w-dj-henroc
DTSTART;TZID=America/Los_Angeles:20100525T210000
DTEND;TZID=America/Los_Angeles:20100526T020000
CATEGORIES:soul, "r&b", hip, hop, breaks
LOCATION:Eve Lounge
WEBSITE:http://www.eveloungesf.com
URL:http://www.eveloungesf.com
CONTACT:
ORGANIZER:EVE LOUNGE CITY CAT SOUND SOUL SELECT
ATTACH;FMTTYPE="image/jpeg":http://storage.ning.com/topology/rest/1.0/
 file/get/2247889022?profile=original
ATTENDEE;ROLE=REQ-PARTICIPANT;PARTSTAT=ACCEPTED;RSVP=TRUE;CN="DJ HENRO
 C":http://trueskool.com/profile/DJHENROC
END:VEVENT
END:VCALENDAR
