BEGIN:VCALENDAR
PRODID:NingEventWidget-v1
VERSION:2.0
METHOD:PUBLISH
BEGIN:VTIMEZONE
TZID:America/Los_Angeles
X-LIC-LOCATION:America/Los_Angeles
BEGIN:DAYLIGHT
TZOFFSETFROM:-0800
TZOFFSETTO:-0700
TZNAME:PDT
DTSTART:19700308T020000
RRULE:FREQ=YEARLY;BYMONTH=3;BYDAY=2SU
END:DAYLIGHT
BEGIN:STANDARD
TZOFFSETFROM:-0700
TZOFFSETTO:-0800
TZNAME:PST
DTSTART:19701101T020000
RRULE:FREQ=YEARLY;BYMONTH=11;BYDAY=1SU
END:STANDARD
END:VTIMEZONE
BEGIN:VEVENT
UID:1464587:Event:53280
DTSTAMP:20260422T092749Z
SUMMARY:Nas & Damian \"Jr. Gong\" Marley
DESCRIPTION:CLICK HERE TO WIN A PAIR OF TICKETS\n\n\nTuesday May 25th\
 nNas & Damian Marley\nplus special guest Nneka\n\nFox Theater\n1807 Te
 legraph Ave, Oakland, CA\ndoors at 8pm\ntickets $39.50\nBuy Tickets\n\
 n\n\n\n\nFor more information visit http://trueskool.com/events/nas-da
 mian-jr-gong-marley
DTSTART;TZID=America/Los_Angeles:20100525T200000
DTEND;TZID=America/Los_Angeles:20100526T000000
CATEGORIES:hip, hop, dancehall, reggae
LOCATION:Fox Theater, Oakland, CA
WEBSITE:http://www.ticketmaster.com/event/1C004478AE063423?artistid=76
 6597&majorcatid=10001&minorcatid=3
URL:http://www.ticketmaster.com/event/1C004478AE063423?artistid=766597
 &majorcatid=10001&minorcatid=3
CONTACT:
ORGANIZER;CN="Editor's Pick":http://trueskool.com/profile/RentheVinylA
 rchaeologist
ATTACH;FMTTYPE="image/jpeg":http://storage.ning.com/topology/rest/1.0/
 file/get/2247857822?profile=original
ATTENDEE;ROLE=REQ-PARTICIPANT;PARTSTAT=ACCEPTED;RSVP=TRUE;CN="Editor's
  Pick":http://trueskool.com/profile/RentheVinylArchaeologist
END:VEVENT
END:VCALENDAR
