BEGIN:VCALENDAR
PRODID:NingEventWidget-v1
VERSION:2.0
METHOD:PUBLISH
BEGIN:VTIMEZONE
TZID:America/Los_Angeles
X-LIC-LOCATION:America/Los_Angeles
BEGIN:DAYLIGHT
TZOFFSETFROM:-0800
TZOFFSETTO:-0700
TZNAME:PDT
DTSTART:19700308T020000
RRULE:FREQ=YEARLY;BYMONTH=3;BYDAY=2SU
END:DAYLIGHT
BEGIN:STANDARD
TZOFFSETFROM:-0700
TZOFFSETTO:-0800
TZNAME:PST
DTSTART:19701101T020000
RRULE:FREQ=YEARLY;BYMONTH=11;BYDAY=1SU
END:STANDARD
END:VTIMEZONE
BEGIN:VEVENT
UID:1464587:Event:645819
DTSTAMP:20260420T232423Z
SUMMARY:NAFASI w/ King Most & DJ Mpenzi
DESCRIPTION:::NAFASI:: a swahili word for \"SPACE\"::: a 1st Friday Ev
 ent::\nA spacial CONSTRUKT that transforms \"SPACE\" using artistic an
 d musical mediums with the goal of attracting people from all creative
  and musical backgrounds. Art & Music has always defined how we view 
 the world and with this event we hope to bring together Artists, Peopl
 e & Deejays that unite these forms of expression.Every 1st Friday we e
 mbark on this journey to embrace and celebrate these universal languag
 es.::4.1.16::Special Guest ::KINGMOST:: KM/FM | King-Most.comResident
 ::MPENZI:: MAJOR | Mondial AfriqueHosted By::CANDI:: SKIN WorldWide\n\
 n\nFor more information visit http://trueskool.com/events/nafasi-w-kin
 g-most-dj-mpenzi
DTSTART;TZID=America/Los_Angeles:20160401T200000
DTEND;TZID=America/Los_Angeles:20160402T020000
CATEGORIES:somar, bar, oakland, telegraph, uptown, bay, area, east
LOCATION:Somar Bar
WEBSITE:https://www.eventbrite.com/e/nafasi-a-spacial-construct-w-gues
 t-kingmost-tickets-23027082624?aff=efbneb
URL:https://www.eventbrite.com/e/nafasi-a-spacial-construct-w-guest-ki
 ngmost-tickets-23027082624?aff=efbneb
CONTACT:
ORGANIZER;CN="miss candi":http://trueskool.com/profile/misscandi
ATTACH;FMTTYPE="image/jpeg":http://storage.ning.com/topology/rest/1.0/
 file/get/2247988046?profile=original
ATTENDEE;ROLE=REQ-PARTICIPANT;PARTSTAT=ACCEPTED;RSVP=TRUE;CN="miss can
 di":http://trueskool.com/profile/misscandi
END:VEVENT
END:VCALENDAR
