BEGIN:VCALENDAR
PRODID:NingEventWidget-v1
VERSION:2.0
METHOD:PUBLISH
BEGIN:VTIMEZONE
TZID:America/Los_Angeles
X-LIC-LOCATION:America/Los_Angeles
BEGIN:DAYLIGHT
TZOFFSETFROM:-0800
TZOFFSETTO:-0700
TZNAME:PDT
DTSTART:19700308T020000
RRULE:FREQ=YEARLY;BYMONTH=3;BYDAY=2SU
END:DAYLIGHT
BEGIN:STANDARD
TZOFFSETFROM:-0700
TZOFFSETTO:-0800
TZNAME:PST
DTSTART:19701101T020000
RRULE:FREQ=YEARLY;BYMONTH=11;BYDAY=1SU
END:STANDARD
END:VTIMEZONE
BEGIN:VEVENT
UID:1464587:Event:676221
DTSTAMP:20260420T172549Z
SUMMARY:NAFASI: First Friday Throwdown
DESCRIPTION:NAFASI is Somar's First Friday Celebration with residents 
 Ms. Candi, Mpenzi and B-Styles setting the vibes just right! In July, 
 we welcome special guests DJ Shortkut and Malachai. \n\nRSVP for Free
  Entry before 10PM and VIP Access All Night Long \n$10 Cover Otherwis
 e \n\n\n\nFor more information visit http://trueskool.com/events/nafa
 si-first-friday-throwdown
DTSTART;TZID=America/Los_Angeles:20180706T180000
DTEND;TZID=America/Los_Angeles:20180707T010000
CATEGORIES:somar, oakland, downtown, east, bay, area, northern, califo
 rnia
LOCATION:Somar
WEBSITE:http://mpenzi.squarespace.com/nafasi
URL:http://mpenzi.squarespace.com/nafasi
CONTACT:
ORGANIZER;CN="miss candi":http://trueskool.com/profile/misscandi
ATTACH;FMTTYPE="image/jpeg":http://storage.ning.com/topology/rest/1.0/
 file/get/2248006886?profile=original
ATTENDEE;ROLE=REQ-PARTICIPANT;PARTSTAT=ACCEPTED;RSVP=TRUE;CN="miss can
 di":http://trueskool.com/profile/misscandi
END:VEVENT
END:VCALENDAR
