BEGIN:VCALENDAR
PRODID:NingEventWidget-v1
VERSION:2.0
METHOD:PUBLISH
BEGIN:VTIMEZONE
TZID:America/Los_Angeles
X-LIC-LOCATION:America/Los_Angeles
BEGIN:DAYLIGHT
TZOFFSETFROM:-0800
TZOFFSETTO:-0700
TZNAME:PDT
DTSTART:19700308T020000
RRULE:FREQ=YEARLY;BYMONTH=3;BYDAY=2SU
END:DAYLIGHT
BEGIN:STANDARD
TZOFFSETFROM:-0700
TZOFFSETTO:-0800
TZNAME:PST
DTSTART:19701101T020000
RRULE:FREQ=YEARLY;BYMONTH=11;BYDAY=1SU
END:STANDARD
END:VTIMEZONE
BEGIN:VEVENT
UID:1464587:Event:647888
DTSTAMP:20260420T135307Z
SUMMARY:\"Nafasi\" Featuring Pam the Funkstress & Mpenzi
DESCRIPTION:Join the NAFASI family every First Friday as embark on a j
 ourney to celebrate the universal language of music. \nFeaturing Resi
 dents: \nDJ B-STYLE \nDJ MPENZI\nSpecial Guest: \nPAM THE FUNKSTRES
 S\nHosted By: \nMs. Candi\n\nSOMAR BAR\n1727 Telegraph Ave\nOakland, 
 CA \nFree Before 10PM w/ RSVP\n$5 - 10\n\n\n\nFor more information vi
 sit http://trueskool.com/events/nafasi-featuring-pam-the-funkstress-mp
 enzi
DTSTART;TZID=America/Los_Angeles:20160506T180000
DTEND;TZID=America/Los_Angeles:20160507T020000
CATEGORIES:oakland, uptown, east, bay, the, town, area, northern, cali
 fornia
LOCATION:Somar Bar, Oakland
WEBSITE:https://nafasi-1stfriday-pamthefunkstress.eventbrite.com/
URL:https://nafasi-1stfriday-pamthefunkstress.eventbrite.com/
CONTACT:
ORGANIZER;CN="miss candi":http://trueskool.com/profile/misscandi
ATTACH;FMTTYPE="image/jpeg":http://storage.ning.com/topology/rest/1.0/
 file/get/2247987642?profile=original
ATTENDEE;ROLE=REQ-PARTICIPANT;PARTSTAT=ACCEPTED;RSVP=TRUE;CN="miss can
 di":http://trueskool.com/profile/misscandi
END:VEVENT
END:VCALENDAR
