BEGIN:VCALENDAR
PRODID:NingEventWidget-v1
VERSION:2.0
METHOD:PUBLISH
BEGIN:VTIMEZONE
TZID:America/Los_Angeles
X-LIC-LOCATION:America/Los_Angeles
BEGIN:DAYLIGHT
TZOFFSETFROM:-0800
TZOFFSETTO:-0700
TZNAME:PDT
DTSTART:19700308T020000
RRULE:FREQ=YEARLY;BYMONTH=3;BYDAY=2SU
END:DAYLIGHT
BEGIN:STANDARD
TZOFFSETFROM:-0700
TZOFFSETTO:-0800
TZNAME:PST
DTSTART:19701101T020000
RRULE:FREQ=YEARLY;BYMONTH=11;BYDAY=1SU
END:STANDARD
END:VTIMEZONE
BEGIN:VEVENT
UID:1464587:Event:136868
DTSTAMP:20260420T152501Z
SUMMARY:Myspace FEEL THE MUSIC Series w/ DJ Z-Trip & Switch – powere
 d by Denon
DESCRIPTION:\nThursday, Nov 1“MYSPACE FEEL THE MUSIC SERIES,” SPON
 SORED BY DENON, FEATURING PERFORMANCES BY ICONIC DJSDJ Z-Trip & Switc
 hMyspace is excited to announce a free three-city “Myspace Feel the 
 Music” DJ concert series that will feature an all-star line-up of ic
 onic DJs, including Chromeo & Questlove in New York, DJ Z-Trip and
  Switch in San Francisco and DJ Jazzy Jeff in Los Angeles. Denon i
 s sponsoring the series in conjunction with the launch of its new line
  of lifestyle-focused headphones.Free admission will be given to fans 
 that RSVP at www.myspace.com/feelthemusicon a first-come, first-serve
  basis.\n@ Mighty, 119 Utah St., San Francisco9pm-2am. 21+For more inf
 ormation, visit www.myspace.com/feelthemusic\nDJ Z-Trip\nZ-Trip is no
 t just a DJ. He is more than a producer. He is a musical pioneer. And 
 he sits at the helm of the highest echelon of DJ royalty. As a perform
 er, Z-Trip is revered as one of the best live performance DJs in histo
 ry, by both fans and peers. It’s no surprise fans voted him “Ameri
 ca’s Best D” in 2009, beating out over 100 other DJ’s in DJ Time
 s highly-acclaimed annual readers poll. His worldwide sold-out shows c
 ontinue to set attendance records while drawing critical praise. “On
 e of the great musical moments from Coachella (2002) was the frenzied 
 set by turntable wizard Z-Trip. He had fans howling and bobbing, closi
 ng his set with a surprise appearance by Beck,” wrote the Los Angele
 s Times. It’s a fact that many call him the “godfather of mash-ups
 ,” as he is one of the originators of the genre.\nhttp://www.myspace
 .com/djztrip\nSwitch (Dave Taylor formerly Major Lazer)\nSwitch is a U
 K-based DJ, songwriter, sound engineer and record producer. He is best
  known for his work with M.I.A.. In the fidget house genre, Switch run
 s his own music label \"Dubsided\", as well as the label Counterfeet, 
 established in 2006 with fellow producer Sinden. He has released vario
 us singles under his own name, and is also well known for remixing and
  producing for many major artists.He has also produced tracks for arti
 sts like Christina Aguilera, Santigold, Amanda Blank, Nicola Roberts a
 nd Beyonce.In 2009 Switch collaborated with fellow producer Diplo (who
 m he met through artist M.I.A.) to create the album Guns Don't Kill Pe
 ople... Lazers Do under the name Major Lazer.http://www.myspace.com/ma
 jorlazer\n\nFor more information visit http://trueskool.com/events/mys
 pace-feel-the-music-series-w-dj-z-trip-switch-powered-by-denon
DTSTART;TZID=America/Los_Angeles:20121101T210000
DTEND;TZID=America/Los_Angeles:20121102T020000
CATEGORIES:san, francisco, ca
LOCATION:MIGHTY, San Francisco
WEBSITE:http://mightysf.eventbrite.com
URL:http://mightysf.eventbrite.com
CONTACT:
ORGANIZER;CN="Carey Kopp":http://trueskool.com/profile/k85
ATTACH;FMTTYPE="image/jpeg":http://storage.ning.com/topology/rest/1.0/
 file/get/2106918516?profile=original
ATTENDEE;ROLE=REQ-PARTICIPANT;PARTSTAT=ACCEPTED;RSVP=TRUE;CN="Carey Ko
 pp":http://trueskool.com/profile/k85
ATTENDEE;ROLE=REQ-PARTICIPANT;PARTSTAT=ACCEPTED;RSVP=TRUE;CN="Russell 
 R":http://trueskool.com/profile/Raffa
END:VEVENT
END:VCALENDAR
