BEGIN:VCALENDAR
PRODID:NingEventWidget-v1
VERSION:2.0
METHOD:PUBLISH
BEGIN:VTIMEZONE
TZID:America/Los_Angeles
X-LIC-LOCATION:America/Los_Angeles
BEGIN:DAYLIGHT
TZOFFSETFROM:-0800
TZOFFSETTO:-0700
TZNAME:PDT
DTSTART:19700308T020000
RRULE:FREQ=YEARLY;BYMONTH=3;BYDAY=2SU
END:DAYLIGHT
BEGIN:STANDARD
TZOFFSETFROM:-0700
TZOFFSETTO:-0800
TZNAME:PST
DTSTART:19701101T020000
RRULE:FREQ=YEARLY;BYMONTH=11;BYDAY=1SU
END:STANDARD
END:VTIMEZONE
BEGIN:VEVENT
UID:1464587:Event:651646
DTSTAMP:20260420T214518Z
SUMMARY:MUSIQ SOULCHILD
DESCRIPTION:MUSIQ SOULCHILD\n FRI 7.22 DOORS: 7:30 PM / SHOW: 8:00 PM\
 n\nFRI 7.22 DOORS: 9:45 PM / SHOW: 10:00 PM\n\nSAT 7.23 DOORS: 7:00 PM
  / SHOW: 7:30 PM\n\nSAT 7.23 DOORS: 9:15 PM / SHOW: 9:30 PM\n\nSUN 7.2
 4\nDOORS: 6:30 PM / SHOW: 7:00 PM\n\nSUN 7.24 DOORS: 8:45 PM / SHOW: 9
 :00 PM\n\nMON 7.25\nDOORS: 7:30 PM / SHOW: 8:00 PM\n\nMON 7.25\nDOORS:
  9:45 PM / SHOW: 10:00 PM\n\n\nFor more information visit http://trues
 kool.com/events/musiq-soulchild2
DTSTART;TZID=America/Los_Angeles:20160722T200000
DTEND;TZID=America/Los_Angeles:20160725T234500
CATEGORIES:"san francisco", oakland, berkley, "san jose", "bay area"
LOCATION:Yoshi's, Oakland
WEBSITE:http://www.yoshis.com/search/?q=MUSIQ%20SOULCHILD
URL:http://www.yoshis.com/search/?q=MUSIQ%20SOULCHILD
CONTACT:
ORGANIZER;CN="Editor's Pick":http://trueskool.com/profile/RentheVinylA
 rchaeologist
ATTACH;FMTTYPE="image/jpeg":http://storage.ning.com/topology/rest/1.0/
 file/get/2247970039?profile=original
ATTENDEE;ROLE=REQ-PARTICIPANT;PARTSTAT=ACCEPTED;RSVP=TRUE;CN="Editor's
  Pick":http://trueskool.com/profile/RentheVinylArchaeologist
END:VEVENT
END:VCALENDAR
