BEGIN:VCALENDAR
PRODID:NingEventWidget-v1
VERSION:2.0
METHOD:PUBLISH
BEGIN:VTIMEZONE
TZID:America/Los_Angeles
X-LIC-LOCATION:America/Los_Angeles
BEGIN:DAYLIGHT
TZOFFSETFROM:-0800
TZOFFSETTO:-0700
TZNAME:PDT
DTSTART:19700308T020000
RRULE:FREQ=YEARLY;BYMONTH=3;BYDAY=2SU
END:DAYLIGHT
BEGIN:STANDARD
TZOFFSETFROM:-0700
TZOFFSETTO:-0800
TZNAME:PST
DTSTART:19701101T020000
RRULE:FREQ=YEARLY;BYMONTH=11;BYDAY=1SU
END:STANDARD
END:VTIMEZONE
BEGIN:VEVENT
UID:1464587:Event:378018
DTSTAMP:20260421T070720Z
SUMMARY:Musicology featuring Jah Yzer & Ren the Vinyl Archaeologist
DESCRIPTION:\n\nSATURDAY, JULY 5\nTrue Skool presents\nMUSICOLOGY (1st
  Saturdays)\nHip hop, soul, house, reggae and more!\n\nFeaturing Music
 ologists:\nJAH YZER (Jah Warrior Shelter)\nREN THE VINYL ARCHAEOLOGIST
  (True Skool)\n\n@ Slate Bar, 2925 16th St., San Francisco\n10pm-2am |
  FREE BEFORE 11PM, $5 AFTER | 21+\n\n\n\nFor more information visit ht
 tp://trueskool.com/events/musicology-featuring-jah-yzer-ren-the-vinyl-
 archaeologist
DTSTART;TZID=America/Los_Angeles:20140705T220000
DTEND;TZID=America/Los_Angeles:20140706T020000
CATEGORIES:"bay area", "san francisco"
LOCATION:Slate Bar, San Francisco
WEBSITE:http://slate-sf.com/
URL:http://slate-sf.com/
CONTACT:
ORGANIZER:True Skool
ATTACH;FMTTYPE="image/jpeg":http://storage.ning.com/topology/rest/1.0/
 file/get/2247963039?profile=original
ATTENDEE;ROLE=REQ-PARTICIPANT;PARTSTAT=ACCEPTED;RSVP=TRUE;CN="m.deep.m
 usic":http://trueskool.com/profile/mdeepmusic
ATTENDEE;ROLE=REQ-PARTICIPANT;PARTSTAT=ACCEPTED;RSVP=TRUE;CN="Staff Pi
 ck":http://trueskool.com/profile/Ren
END:VEVENT
END:VCALENDAR
