BEGIN:VCALENDAR
PRODID:NingEventWidget-v1
VERSION:2.0
METHOD:PUBLISH
BEGIN:VTIMEZONE
TZID:America/Los_Angeles
X-LIC-LOCATION:America/Los_Angeles
BEGIN:DAYLIGHT
TZOFFSETFROM:-0800
TZOFFSETTO:-0700
TZNAME:PDT
DTSTART:19700308T020000
RRULE:FREQ=YEARLY;BYMONTH=3;BYDAY=2SU
END:DAYLIGHT
BEGIN:STANDARD
TZOFFSETFROM:-0700
TZOFFSETTO:-0800
TZNAME:PST
DTSTART:19701101T020000
RRULE:FREQ=YEARLY;BYMONTH=11;BYDAY=1SU
END:STANDARD
END:VTIMEZONE
BEGIN:VEVENT
UID:1464587:Event:683732
DTSTAMP:20260424T160432Z
SUMMARY:MURS with Locksmith and Cojo
DESCRIPTION:MURS w/Locksmith and Cojo\r\nThursday, April 11, 2019 Door
 s: 7:00PM |Show: 8:00PM\r\nSLIM'S 333 11th St. San Francisco, CA 94103
  (415) 255-0333\r\n\n\nFor more information visit http://trueskool.com
 /events/murs-with-locksmith-and-cojo
DTSTART;TZID=America/Los_Angeles:20190411T200000
DTEND;TZID=America/Los_Angeles:20190411T230000
CATEGORIES:"bay area", oakland, "san francisco", "san jose", berkeley
LOCATION:SLIM'S, SF
WEBSITE:https://www.eventbrite.com/e/murs-slims-w-locksmith-tickets-55
 005666429
URL:https://www.eventbrite.com/e/murs-slims-w-locksmith-tickets-550056
 66429
CONTACT:
ORGANIZER;CN="Editor's Pick":http://trueskool.com/profile/RentheVinylA
 rchaeologist
ATTACH;FMTTYPE="image/jpeg":https://storage.ning.com/topology/rest/1.0
 /file/get/1045729837?profile=original
ATTENDEE;ROLE=REQ-PARTICIPANT;PARTSTAT=ACCEPTED;RSVP=TRUE;CN="Editor's
  Pick":http://trueskool.com/profile/RentheVinylArchaeologist
END:VEVENT
END:VCALENDAR
