BEGIN:VCALENDAR
PRODID:NingEventWidget-v1
VERSION:2.0
METHOD:PUBLISH
BEGIN:VTIMEZONE
TZID:America/Los_Angeles
X-LIC-LOCATION:America/Los_Angeles
BEGIN:DAYLIGHT
TZOFFSETFROM:-0800
TZOFFSETTO:-0700
TZNAME:PDT
DTSTART:19700308T020000
RRULE:FREQ=YEARLY;BYMONTH=3;BYDAY=2SU
END:DAYLIGHT
BEGIN:STANDARD
TZOFFSETFROM:-0700
TZOFFSETTO:-0800
TZNAME:PST
DTSTART:19701101T020000
RRULE:FREQ=YEARLY;BYMONTH=11;BYDAY=1SU
END:STANDARD
END:VTIMEZONE
BEGIN:VEVENT
UID:1464587:Event:627819
DTSTAMP:20260420T183323Z
SUMMARY:Muffin Men Comedy Showcase and Hip Hip Cypher - FREE
DESCRIPTION:The Muffin Men present the only Wednesday Night (April 29t
 h) Bay Area Showcase that brings together live stand-up comedy with mu
 sic from the Bay Area’s most talented and diverse musicians.  Once a
 gain, #EMoney & LBZ from #TeamBackPack are sliding by. Plus, if you kn
 ow what’s good for ya, you do not want to miss our hilarious headlin
 er, Rudy O!\n\nFor more information visit http://trueskool.com/events/
 muffin-men-comedy-showcase-and-hip-hip-cypher
DTSTART;TZID=America/Los_Angeles:20150429T200000
DTEND;TZID=America/Los_Angeles:20150429T220000
CATEGORIES:hiphip, comedy, chey, bell, bay, area, entertainment, san, 
 francisco, stand, up, free
LOCATION:San Francisco, CA 94133
WEBSITE:http://www.siploungesf.com/
URL:http://www.siploungesf.com/
CONTACT:
ORGANIZER;CN="Chey Bell":http://trueskool.com/profile/CheyBell
ATTACH;FMTTYPE="image/jpeg":http://storage.ning.com/topology/rest/1.0/
 file/get/2247978628?profile=original
ATTENDEE;ROLE=REQ-PARTICIPANT;PARTSTAT=ACCEPTED;RSVP=TRUE;CN="Chey Bel
 l":http://trueskool.com/profile/CheyBell
END:VEVENT
END:VCALENDAR
