BEGIN:VCALENDAR
PRODID:NingEventWidget-v1
VERSION:2.0
METHOD:PUBLISH
BEGIN:VTIMEZONE
TZID:America/Los_Angeles
X-LIC-LOCATION:America/Los_Angeles
BEGIN:DAYLIGHT
TZOFFSETFROM:-0800
TZOFFSETTO:-0700
TZNAME:PDT
DTSTART:19700308T020000
RRULE:FREQ=YEARLY;BYMONTH=3;BYDAY=2SU
END:DAYLIGHT
BEGIN:STANDARD
TZOFFSETFROM:-0700
TZOFFSETTO:-0800
TZNAME:PST
DTSTART:19701101T020000
RRULE:FREQ=YEARLY;BYMONTH=11;BYDAY=1SU
END:STANDARD
END:VTIMEZONE
BEGIN:VEVENT
UID:1464587:Event:554887
DTSTAMP:20260421T011115Z
SUMMARY:Ms. Lauryn Hill (Pennsylvania)
DESCRIPTION:\nDate\nLocation\nEvent Details\nFind Tickets\n\n\nMAR  
 \n28\nSAT\n\nKeswick TheatreGlenside, PA09:00 PM\n\n Ms Lauryn Hill 
 SMALL A  XE: Acoustic Performance  Series Details: Ms. Lauryn Hill\
 nSee Ticketson Partner Site\n\n\n\n\n\nFor more information visit http
 ://trueskool.com/events/ms-lauryn-hill-pennsylvania
DTSTART;TZID=America/Los_Angeles:20150328T210000
DTEND;TZID=America/Los_Angeles:20150328T230000
CATEGORIES:philadelphia, pa, pennsylvania, philly, glenside
LOCATION:Keswick, Theatre
WEBSITE:http://www.axs.com/events/268764/ms-lauryn-hill-tickets?aff=KE
 Z_TM&TM=1
URL:http://www.axs.com/events/268764/ms-lauryn-hill-tickets?aff=KEZ_TM
 &TM=1
CONTACT:
ORGANIZER;CN="Editor's Pick":http://trueskool.com/profile/RentheVinylA
 rchaeologist
ATTACH;FMTTYPE="image/jpeg":http://storage.ning.com/topology/rest/1.0/
 file/get/2247973546?profile=original
ATTENDEE;ROLE=REQ-PARTICIPANT;PARTSTAT=ACCEPTED;RSVP=TRUE;CN="Editor's
  Pick":http://trueskool.com/profile/RentheVinylArchaeologist
END:VEVENT
END:VCALENDAR
