BEGIN:VCALENDAR
PRODID:NingEventWidget-v1
VERSION:2.0
METHOD:PUBLISH
BEGIN:VTIMEZONE
TZID:America/Los_Angeles
X-LIC-LOCATION:America/Los_Angeles
BEGIN:DAYLIGHT
TZOFFSETFROM:-0800
TZOFFSETTO:-0700
TZNAME:PDT
DTSTART:19700308T020000
RRULE:FREQ=YEARLY;BYMONTH=3;BYDAY=2SU
END:DAYLIGHT
BEGIN:STANDARD
TZOFFSETFROM:-0700
TZOFFSETTO:-0800
TZNAME:PST
DTSTART:19701101T020000
RRULE:FREQ=YEARLY;BYMONTH=11;BYDAY=1SU
END:STANDARD
END:VTIMEZONE
BEGIN:VEVENT
UID:1464587:Event:654971
DTSTAMP:20260421T115333Z
SUMMARY:Ms. Lauryn Hill & Nas (WIN TICKETS)
DESCRIPTION:ENTER TO WIN A PAIR OF TICKETS. WINNER WILL BE DRAWN RANDO
 MLY AND ANNOUNCED 2 DAYS PRIOR TO EVENT.  \n\n\nThu, Nov 3, 2016  Ms
 . Lauryn Hill & Nas\n\nBill Graham Civic Auditorium, San Francisco, CA
  07:00 PM >> BUY TICKETS\n\n\n\nFor more information visit http://true
 skool.com/events/ms-lauryn-hill-nas
DTSTART;TZID=America/Los_Angeles:20161103T190000
DTEND;TZID=America/Los_Angeles:20161103T230000
CATEGORIES:"bay area", "san francisco"
LOCATION:Bill Graham Civic Auditorium, San Francisco
WEBSITE:http://www.ticketmaster.com/event/1C00511DFBE8AE61?camefrom=CF
 C_ANOTHERPLANET_ts&brand=anotherplanet
URL:http://www.ticketmaster.com/event/1C00511DFBE8AE61?camefrom=CFC_AN
 OTHERPLANET_ts&brand=anotherplanet
CONTACT:
ORGANIZER:Another Planet Entertainment
ATTACH;FMTTYPE="image/jpeg":http://storage.ning.com/topology/rest/1.0/
 file/get/2247992256?profile=original
ATTENDEE;ROLE=REQ-PARTICIPANT;PARTSTAT=ACCEPTED;RSVP=TRUE;CN="Frank Vi
 loria":http://trueskool.com/profile/DJILLusive
ATTENDEE;ROLE=REQ-PARTICIPANT;PARTSTAT=ACCEPTED;RSVP=TRUE;CN="Editor's
  Pick":http://trueskool.com/profile/RentheVinylArchaeologist
ATTENDEE;ROLE=REQ-PARTICIPANT;PARTSTAT=TENTATIVE;RSVP=TRUE;CN="H.Wilso
 n":http://trueskool.com/profile/HWilson
END:VEVENT
END:VCALENDAR
