BEGIN:VCALENDAR
PRODID:NingEventWidget-v1
VERSION:2.0
METHOD:PUBLISH
BEGIN:VTIMEZONE
TZID:America/Los_Angeles
X-LIC-LOCATION:America/Los_Angeles
BEGIN:DAYLIGHT
TZOFFSETFROM:-0800
TZOFFSETTO:-0700
TZNAME:PDT
DTSTART:19700308T020000
RRULE:FREQ=YEARLY;BYMONTH=3;BYDAY=2SU
END:DAYLIGHT
BEGIN:STANDARD
TZOFFSETFROM:-0700
TZOFFSETTO:-0800
TZNAME:PST
DTSTART:19701101T020000
RRULE:FREQ=YEARLY;BYMONTH=11;BYDAY=1SU
END:STANDARD
END:VTIMEZONE
BEGIN:VEVENT
UID:1464587:Event:662223
DTSTAMP:20260421T011442Z
SUMMARY:Motown on Mondays 8-Yr Anniversary feat. DJ Cash Money
DESCRIPTION:ENTER TO WIN A PAIR OF TICKETS. WINNER WILL BE DRAWN RANDO
 MLY AND ANNOUNCED 2 DAYS PRIOR TO EVENT. \n FRIDAY, JUNE 2 Motown on 
 Mondays 8-Yr Anniversary ( ( ( MOM DJS | CELEBRATE 8YRS | 33 CITIES ) 
 ) ) An 8 hour celebration for our 8 yr anniversary!\nFeaturing legenda
 ry turntablist  DJ Cash Money\n--DJS-- Shortkut  Kevvy Kev  Cutso Umam
 i Lazyboy Phleck  Gjerrus Illborn Malachi Padron  Gordo Cabeza & Timot
 eo Gigante\n--LIVE PERFORMANCES-- Smoked Out Soul  + more TBA\n***HOST
 ED BY WISDOM***\nVIP mezzanine tickets, early bird happy hour tickets,
  Fernet bar.\n@ The Chapel, 777 Valencia St, San Francisco, California
  94110 6pm-2am 18+ >> BUY TICKETS\n\nWe are honored to have shared the
  gift of music as MOM DJS for 8 years through:\n-Hosting Motown On Mon
 days since 2009. Touching down in 33 cities worldwide. With every majo
 r U.S. city currently hosting a weekly Motown On Mondays.  -Hosting Yo
  Momma! for 4 yrs. A hip hop xo's soul monthly. -Booking and being inv
 ited to support the legends and giants of music culture in all the gre
 atest venues in the Bay and beyond.\nThis is bigger than than us, this
  is everything. We thank you, we love you!\n- MOM DJS\n\n\n\nFor more 
 information visit http://trueskool.com/events/motown-on-mondays-8-yr-a
 nniversary
DTSTART;TZID=America/Los_Angeles:20170602T180000
DTEND;TZID=America/Los_Angeles:20170603T020000
CATEGORIES:"bay area", "san francisco"
LOCATION:The Chapel, San Francisco
WEBSITE:https://www.ticketfly.com/purchase/event/1484557?q=61f455bb-3d
 0f-4dc7-9f53-bfe5af1f944d&p=a9d9e4c9-9395-4a56-993a-3a9dbd95526e&ts=14
 94473613&c=ticketfly&e=001695&rt=Safetynet&h=cd651ae4c97fdd10c13be54c6
 5193835
URL:https://www.ticketfly.com/purchase/event/1484557?q=61f455bb-3d0f-4
 dc7-9f53-bfe5af1f944d&p=a9d9e4c9-9395-4a56-993a-3a9dbd95526e&ts=149447
 3613&c=ticketfly&e=001695&rt=Safetynet&h=cd651ae4c97fdd10c13be54c65193
 835
CONTACT:
ORGANIZER:MOM DJs
ATTACH;FMTTYPE="image/jpeg":http://storage.ning.com/topology/rest/1.0/
 file/get/2247996535?profile=original
ATTENDEE;ROLE=REQ-PARTICIPANT;PARTSTAT=ACCEPTED;RSVP=TRUE;CN="Ren the 
 Vinyl Archaeologist":http://trueskool.com/profile/xh51jvilojur
END:VEVENT
END:VCALENDAR
