BEGIN:VCALENDAR
PRODID:NingEventWidget-v1
VERSION:2.0
METHOD:PUBLISH
BEGIN:VTIMEZONE
TZID:America/Los_Angeles
X-LIC-LOCATION:America/Los_Angeles
BEGIN:DAYLIGHT
TZOFFSETFROM:-0800
TZOFFSETTO:-0700
TZNAME:PDT
DTSTART:19700308T020000
RRULE:FREQ=YEARLY;BYMONTH=3;BYDAY=2SU
END:DAYLIGHT
BEGIN:STANDARD
TZOFFSETFROM:-0700
TZOFFSETTO:-0800
TZNAME:PST
DTSTART:19701101T020000
RRULE:FREQ=YEARLY;BYMONTH=11;BYDAY=1SU
END:STANDARD
END:VTIMEZONE
BEGIN:VEVENT
UID:1464587:Event:550111
DTSTAMP:20260420T202049Z
SUMMARY:Mos Def Aka Yasiin Bey (Los Angeles)
DESCRIPTION:\nDate\nLocation\nEvent Details\nFind Tickets\n\n\n APR 
  \n11\nSAT\n\nThe ObservatorySanta Ana, CA08:00 PM\n\nMos Def Aka Ya
 siin Bey\nSee Ticketson TicketWeb\n\n\n\n\n\nFor more information visi
 t http://trueskool.com/events/mos-def-aka-yasiin-bey-los-angeles
DTSTART;TZID=America/Los_Angeles:20150411T200000
DTEND;TZID=America/Los_Angeles:20150411T230000
CATEGORIES:"los angeles", la, "santa anna", california, ca
LOCATION:The Observatory, Santa Anna
WEBSITE:http://www.ticketmaster.com/partner_redirect?v=GqWTshTwNDAsWhD
 hQs0PS2HXeHOWt8e1V0IeAziihuIxBsfpF2eb-CD0w-FmHv3L4GeuHvtlxWtMhlNN3RdIn
 hm8xOkOEruaBHiDUuwH5XPKOvJYxZ2aDCDzx1l7EX13VzCc0qU04I1zmTZE2V4YtqW_etw
 su6NACb4ChSvbl1_fmFZVeWHcZ9lEttfYSKCt5HTFw1ZhF6nv08Eiag&eventid=29004E
 3E29F06AF3&artistid=1942162&artistname=Mos%20Def%20Aka%20Yasiin%20Bey&
 crosssite=TM_US:1942162:73867
URL:http://www.ticketmaster.com/partner_redirect?v=GqWTshTwNDAsWhDhQs0
 PS2HXeHOWt8e1V0IeAziihuIxBsfpF2eb-CD0w-FmHv3L4GeuHvtlxWtMhlNN3RdInhm8x
 OkOEruaBHiDUuwH5XPKOvJYxZ2aDCDzx1l7EX13VzCc0qU04I1zmTZE2V4YtqW_etwsu6N
 ACb4ChSvbl1_fmFZVeWHcZ9lEttfYSKCt5HTFw1ZhF6nv08Eiag&eventid=29004E3E29
 F06AF3&artistid=1942162&artistname=Mos%20Def%20Aka%20Yasiin%20Bey&cros
 ssite=TM_US:1942162:73867
CONTACT:
ORGANIZER;CN="Editor's Pick":http://trueskool.com/profile/RentheVinylA
 rchaeologist
ATTACH;FMTTYPE="image/jpeg":http://storage.ning.com/topology/rest/1.0/
 file/get/2247972785?profile=original
ATTENDEE;ROLE=REQ-PARTICIPANT;PARTSTAT=ACCEPTED;RSVP=TRUE;CN="Editor's
  Pick":http://trueskool.com/profile/RentheVinylArchaeologist
END:VEVENT
END:VCALENDAR
