BEGIN:VCALENDAR
PRODID:NingEventWidget-v1
VERSION:2.0
METHOD:PUBLISH
BEGIN:VTIMEZONE
TZID:America/Los_Angeles
X-LIC-LOCATION:America/Los_Angeles
BEGIN:DAYLIGHT
TZOFFSETFROM:-0800
TZOFFSETTO:-0700
TZNAME:PDT
DTSTART:19700308T020000
RRULE:FREQ=YEARLY;BYMONTH=3;BYDAY=2SU
END:DAYLIGHT
BEGIN:STANDARD
TZOFFSETFROM:-0700
TZOFFSETTO:-0800
TZNAME:PST
DTSTART:19701101T020000
RRULE:FREQ=YEARLY;BYMONTH=11;BYDAY=1SU
END:STANDARD
END:VTIMEZONE
BEGIN:VEVENT
UID:1464587:Event:688454
DTSTAMP:20260420T173609Z
SUMMARY:MORGAN HERITAGE
DESCRIPTION:MORGAN HERITAGE With Jemere Morgan\r\nSunday, September 1,
  2019 Doors: 7:00PM |Show: 8:00PM\r\nGREAT AMERICAN MUSIC HALL 859 O'F
 arrell St. San Francisco, CA 94109 415-885-0750\n\nFor more informatio
 n visit http://trueskool.com/events/morgan-heritage-1
DTSTART;TZID=America/Los_Angeles:20190901T200000
DTEND;TZID=America/Los_Angeles:20190901T230000
CATEGORIES:"bay area", oakland, "san francisco", "san jose", berkeley
LOCATION:GREAT AMERICAN MUSIC HALL, SF
WEBSITE:https://morganheritagegamh09012019.eventbrite.com/
URL:https://morganheritagegamh09012019.eventbrite.com/
CONTACT:
ORGANIZER;CN="Editor's Pick":http://trueskool.com/profile/RentheVinylA
 rchaeologist
ATTACH;FMTTYPE="image/jpeg":https://storage.ning.com/topology/rest/1.0
 /file/get/2864339562?profile=original
ATTENDEE;ROLE=REQ-PARTICIPANT;PARTSTAT=ACCEPTED;RSVP=TRUE;CN="Editor's
  Pick":http://trueskool.com/profile/RentheVinylArchaeologist
END:VEVENT
END:VCALENDAR
