BEGIN:VCALENDAR
PRODID:NingEventWidget-v1
VERSION:2.0
METHOD:PUBLISH
BEGIN:VTIMEZONE
TZID:America/Los_Angeles
X-LIC-LOCATION:America/Los_Angeles
BEGIN:DAYLIGHT
TZOFFSETFROM:-0800
TZOFFSETTO:-0700
TZNAME:PDT
DTSTART:19700308T020000
RRULE:FREQ=YEARLY;BYMONTH=3;BYDAY=2SU
END:DAYLIGHT
BEGIN:STANDARD
TZOFFSETFROM:-0700
TZOFFSETTO:-0800
TZNAME:PST
DTSTART:19701101T020000
RRULE:FREQ=YEARLY;BYMONTH=11;BYDAY=1SU
END:STANDARD
END:VTIMEZONE
BEGIN:VEVENT
UID:1464587:Event:445779
DTSTAMP:20260420T201750Z
SUMMARY:Mondial Afrique Fridays
DESCRIPTION:A weekly Afro-Caribbean bashment at the brand new Au Loung
 e (2430 Broadway - Oakland, CA)\nplaying the hottest Afrobeatz•Regga
 e•Soca•Coupé Décalé every Friday night  with ROTATING Selectors
 : 1st Friday - Juan G (Digging4gold) 2nd Friday - Fuze (Digital underg
 round) 3rd Friday - Claude 4th Friday - Mpenzi (STIMULI)\n\nFor more i
 nformation visit http://trueskool.com/events/mondial-afrique-fridays
DTSTART;TZID=America/Los_Angeles:20141205T220000
DTEND;TZID=America/Los_Angeles:20141205T230000
CATEGORIES:oakland, bay, area
LOCATION:Au Lounge, Oakland
WEBSITE:https://www.facebook.com/events/1444400532471390/
URL:https://www.facebook.com/events/1444400532471390/
CONTACT:
ORGANIZER;CN="Juan G":http://trueskool.com/profile/JuanG
ATTACH;FMTTYPE="image/jpeg":http://storage.ning.com/topology/rest/1.0/
 file/get/2247969534?profile=original
ATTENDEE;ROLE=REQ-PARTICIPANT;PARTSTAT=ACCEPTED;RSVP=TRUE;CN="Juan G":
 http://trueskool.com/profile/JuanG
END:VEVENT
END:VCALENDAR
