BEGIN:VCALENDAR
PRODID:NingEventWidget-v1
VERSION:2.0
METHOD:PUBLISH
BEGIN:VTIMEZONE
TZID:America/Los_Angeles
X-LIC-LOCATION:America/Los_Angeles
BEGIN:DAYLIGHT
TZOFFSETFROM:-0800
TZOFFSETTO:-0700
TZNAME:PDT
DTSTART:19700308T020000
RRULE:FREQ=YEARLY;BYMONTH=3;BYDAY=2SU
END:DAYLIGHT
BEGIN:STANDARD
TZOFFSETFROM:-0700
TZOFFSETTO:-0800
TZNAME:PST
DTSTART:19701101T020000
RRULE:FREQ=YEARLY;BYMONTH=11;BYDAY=1SU
END:STANDARD
END:VTIMEZONE
BEGIN:VEVENT
UID:1464587:Event:625118
DTSTAMP:20260420T232055Z
SUMMARY:MOM DJs 6 Year Anniversary
DESCRIPTION:MOM DJs 6 Year Anniversary\nRepresenting 6 MOM Chapterswit
 h guests:with special guest The Gaff\n\n\nVenue:\nThe Independent\n\nL
 ocation:\nSan Francisco, CA\n\nShow Date:\nFriday, April 17\n\nShow Ti
 me:\n9:00PM\n\nOn Sale Date:\nFriday, March 20\n\nTicket Price:\n$15 a
 dv | $20 door *plus applicable service feesTickets available at The I
 ndependent (628 Divisadero, SF) for no service charge.\n\n\n\n\n\nFor 
 more information visit http://trueskool.com/events/mom-djs-6-year-anni
 versary
DTSTART;TZID=America/Los_Angeles:20150328T180000
DTEND;TZID=America/Los_Angeles:20150328T190000
CATEGORIES:"san francisco", oakland, berkley, "san jose", "bay area"
LOCATION:The Independent, San Francisco, CA
WEBSITE:https://www.ticketfly.com/purchase/event/814807
URL:https://www.ticketfly.com/purchase/event/814807
CONTACT:
ORGANIZER;CN="Editor's Pick":http://trueskool.com/profile/RentheVinylA
 rchaeologist
ATTACH;FMTTYPE="image/jpeg":http://storage.ning.com/topology/rest/1.0/
 file/get/2247974441?profile=original
ATTENDEE;ROLE=REQ-PARTICIPANT;PARTSTAT=ACCEPTED;RSVP=TRUE;CN="Editor's
  Pick":http://trueskool.com/profile/RentheVinylArchaeologist
END:VEVENT
END:VCALENDAR
