BEGIN:VCALENDAR
PRODID:NingEventWidget-v1
VERSION:2.0
METHOD:PUBLISH
BEGIN:VTIMEZONE
TZID:America/Los_Angeles
X-LIC-LOCATION:America/Los_Angeles
BEGIN:DAYLIGHT
TZOFFSETFROM:-0800
TZOFFSETTO:-0700
TZNAME:PDT
DTSTART:19700308T020000
RRULE:FREQ=YEARLY;BYMONTH=3;BYDAY=2SU
END:DAYLIGHT
BEGIN:STANDARD
TZOFFSETFROM:-0700
TZOFFSETTO:-0800
TZNAME:PST
DTSTART:19701101T020000
RRULE:FREQ=YEARLY;BYMONTH=11;BYDAY=1SU
END:STANDARD
END:VTIMEZONE
BEGIN:VEVENT
UID:1464587:Event:82977
DTSTAMP:20260420T145237Z
SUMMARY:MOBB DEEP
DESCRIPTION:\nÂ \n\n\nSunday, May 29, 2011\nTastemaker Live & Sean Hea
 ly present...\nThe Infamous\nMOBB DEEP\nSupport: TBA\nÂ Â  Â  Â  Â  Â 
  Â  Â  Â  Â  Â  Â  Â  Â  Â  Â  Â  Â  Â  hosted by FlossafeeÂ Â  Â  Â  
 Â  Â  Â  Â  Â  Â  Â  Â  Â  Â  Â  Â  Â  Â w/ Sean G. on the decks\nMezz
 anine 444 Jessie St. San Francisco, CA 94103\n21+, Doors @ 8:00\nSunda
 y, May 29, 2011, New York street rap legends, Prodigy and Havoc, best 
 known to the world as Mobb Deep will appear live on stage at the Mezza
 nine in San Francisco for their first long awaited live show in the ma
 rket since the early 2000s. Anticipation is high for the return of one
  of the most revered rap duos in hip-hop history. Fans can expect an e
 lectrifying live set packed with East Coast street anthems and definit
 ive 90s hip-hop bangers.\nIn the mid 90s, Mobb Deep released the semin
 al hardcore rap record, The Infamous, which spawned the monster hit, \
 "The Shook Ones Pt.II\". Along with Nasâ€™ Illmatic and Notorious B.I.
 G.â€™s Ready to Die, The Infamous changed the landscape of not just Ne
 w York and East Coast hip-hop in the 90s, but the entire direction of 
 rap music for many years to come. Prodigyâ€™s grim portrayal of the st
 reet life and hood in Queens and Havocâ€™s raw, minimalist and menacin
 g soundscapes became the soundtrack of the concrete jungle of New York
  City.\nIn subsequent years, Mobb Deep released the influential Hell o
 n Earth, and Murder Muzik, eventually signing with 50-Centâ€™s G-Music
  label and experiencing a resurgence with young rap fans through 2006â
 €™s Blood Money. After serving a 3 year prison sentence, frontman Prod
 igy has written an autobiography about his life, continued to record s
 olo material and rejoined with his musical partner Havoc. At the Memor
 ial Day weekend show at the Mezzanine, VIP ticket holders will have th
 e opportunity to meet Prodigy in person before the show and receive an
  autographed copy of his autobiography.\n\nFor more information visit 
 http://trueskool.com/events/mobb-deep
DTSTART;TZID=America/Los_Angeles:20110529T200000
DTEND;TZID=America/Los_Angeles:20110530T020000
CATEGORIES:san, francisco, ca
LOCATION:San Francisco
WEBSITE:http://mobbdeepmezz.eventbrite.com/
URL:http://mobbdeepmezz.eventbrite.com/
CONTACT:4157560732
ORGANIZER:Tastemaker Live & Sean Healy Presents
ATTACH;FMTTYPE="image/jpeg":http://storage.ning.com/topology/rest/1.0/
 file/get/2247895801?profile=original
ATTENDEE;ROLE=REQ-PARTICIPANT;PARTSTAT=ACCEPTED;RSVP=TRUE;CN="Gene M."
 :http://trueskool.com/profile/GeneM
END:VEVENT
END:VCALENDAR
