BEGIN:VCALENDAR
PRODID:NingEventWidget-v1
VERSION:2.0
METHOD:PUBLISH
BEGIN:VTIMEZONE
TZID:America/Los_Angeles
X-LIC-LOCATION:America/Los_Angeles
BEGIN:DAYLIGHT
TZOFFSETFROM:-0800
TZOFFSETTO:-0700
TZNAME:PDT
DTSTART:19700308T020000
RRULE:FREQ=YEARLY;BYMONTH=3;BYDAY=2SU
END:DAYLIGHT
BEGIN:STANDARD
TZOFFSETFROM:-0700
TZOFFSETTO:-0800
TZNAME:PST
DTSTART:19701101T020000
RRULE:FREQ=YEARLY;BYMONTH=11;BYDAY=1SU
END:STANDARD
END:VTIMEZONE
BEGIN:VEVENT
UID:1464587:Event:84840
DTSTAMP:20260420T134610Z
SUMMARY:Mobb Deep & Raw-G live at the Mezzanine SF
DESCRIPTION:The Mezzanine, 444 Jesse St San Francisco Ca$25 at the doo
 r-----For discounted tickets go tohttp://rawg.eventbrite.com/21 and ov
 erdoors open at 8:00pmSunday, May 29, 2011, New York street rap legend
 s, Prodigy and Havoc, best known to the world as Mobb Deep will appear
  live on stage at the Mezzanine in San Francisco for their first long 
 awaited live show in the market since the early 2000s. Anticipation is
  high for the return of one of the most revered rap duos in hip-hop hi
 story. Fans can expect an electrifying live set packed with East Coast
  street anthems and definitive 90s hip-hop bangers.RAW-GBlending hip h
 op culture with arevolutionary state of mind, Raw G is notorious for p
 assionate flow and deep poetry. Born and raised in GDL City, Mexico, R
 aw G was dealt a great deal of struggle at a young age. After losing h
 er father, she began expressing her feelings of pain through writing, 
 and began identifying to such artists like KRS-One, 2Pac and the Fugee
 s, relating to the harsh reality depicted in their music.In 1999 she m
 oved to Oakland, California to start a new life as a mother. She began
  learning English by translating rap songs. In the last few years, Raw
  G has stepped her music career up to the top of the list of up and co
 ming artists from the bay area. She has performed with artists such as
  KRS-One, Killah Priest, Mala Rodrigues and many more, She is currentl
 y participating in community events while recording a studio album for
  her group “Vomito Liriko”as well as a solo project..http://www.vo
 mitoliriko.com/Raw-G.htmlwww.Raw-G.com\n\nFor more information visit h
 ttp://trueskool.com/events/mobb-deep-rawg-live-at-the
DTSTART;TZID=America/Los_Angeles:20110529T200000
DTEND;TZID=America/Los_Angeles:20110530T020000
CATEGORIES:bay, area, san, francisco, ca
LOCATION:Mezzanine SF
WEBSITE:http://rawg.eventbrite.com/
URL:http://rawg.eventbrite.com/
CONTACT:
ORGANIZER:Tastemaker Live & Sean Healy
ATTACH;FMTTYPE="image/jpeg":http://storage.ning.com/topology/rest/1.0/
 file/get/2247895940?profile=original
ATTENDEE;ROLE=REQ-PARTICIPANT;PARTSTAT=ACCEPTED;RSVP=TRUE;CN=RAW-G:htt
 p://trueskool.com/profile/RAWG
END:VEVENT
END:VCALENDAR
