BEGIN:VCALENDAR
PRODID:NingEventWidget-v1
VERSION:2.0
METHOD:PUBLISH
BEGIN:VTIMEZONE
TZID:America/Los_Angeles
X-LIC-LOCATION:America/Los_Angeles
BEGIN:DAYLIGHT
TZOFFSETFROM:-0800
TZOFFSETTO:-0700
TZNAME:PDT
DTSTART:19700308T020000
RRULE:FREQ=YEARLY;BYMONTH=3;BYDAY=2SU
END:DAYLIGHT
BEGIN:STANDARD
TZOFFSETFROM:-0700
TZOFFSETTO:-0800
TZNAME:PST
DTSTART:19701101T020000
RRULE:FREQ=YEARLY;BYMONTH=11;BYDAY=1SU
END:STANDARD
END:VTIMEZONE
BEGIN:VEVENT
UID:1464587:Event:317932
DTSTAMP:20260421T033629Z
SUMMARY:Mobb Deep (Los Angeles)
DESCRIPTION:\nMobb Deep\n\n\n\nHouse of Blues Sunset StripWest Hollywo
 od, CA\n\nWed, 04/16/1408:00 PM\n\n Find  Tickets »on  Live Nati
 on\n\n\n\n\n\n\nFor more information visit http://trueskool.com/events
 /mobb-deep-los-angeles-1
DTSTART;TZID=America/Los_Angeles:20140416T200000
DTEND;TZID=America/Los_Angeles:20140416T230000
CATEGORIES:"los angeles"
LOCATION:House of Blues Sunset Strip, Los Angeles
WEBSITE:http://www.ticketmaster.com/Mobb-Deep-tickets/artist/762916
URL:http://www.ticketmaster.com/Mobb-Deep-tickets/artist/762916
CONTACT:
ORGANIZER;CN="Editor's Pick":http://trueskool.com/profile/RentheVinylA
 rchaeologist
ATTACH;FMTTYPE="image/jpeg":http://storage.ning.com/topology/rest/1.0/
 file/get/2247957264?profile=original
ATTENDEE;ROLE=REQ-PARTICIPANT;PARTSTAT=ACCEPTED;RSVP=TRUE;CN="Editor's
  Pick":http://trueskool.com/profile/RentheVinylArchaeologist
END:VEVENT
END:VCALENDAR
