BEGIN:VCALENDAR
PRODID:NingEventWidget-v1
VERSION:2.0
METHOD:PUBLISH
BEGIN:VTIMEZONE
TZID:America/Los_Angeles
X-LIC-LOCATION:America/Los_Angeles
BEGIN:DAYLIGHT
TZOFFSETFROM:-0800
TZOFFSETTO:-0700
TZNAME:PDT
DTSTART:19700308T020000
RRULE:FREQ=YEARLY;BYMONTH=3;BYDAY=2SU
END:DAYLIGHT
BEGIN:STANDARD
TZOFFSETFROM:-0700
TZOFFSETTO:-0800
TZNAME:PST
DTSTART:19701101T020000
RRULE:FREQ=YEARLY;BYMONTH=11;BYDAY=1SU
END:STANDARD
END:VTIMEZONE
BEGIN:VEVENT
UID:1464587:Event:332738
DTSTAMP:20260421T033803Z
SUMMARY:MISERY INDEX - Free Comedy & Cheap Drinks
DESCRIPTION:MISERY INDEX\nOne Year Anniversary Show\nMonday, April 7th
  @ 8:00pm\nThe Rite Spot (2099 Folsom @ 17th)\n3 blocks from 16th & M
 ission BART\nNO COVER!\n\nLet’s face it. Things aren’t going great
 : a bad economy, a horrible job market, never ending wars, exorbitant 
 rent prices, dysfunctional relationships, mental illness, addiction, p
 overty, corruption, STDs, Rihanna. While there isn’t a cure for all 
 of life’s problems, there is a tonic… \n\nMISERY INDEX is a free,
  monthly show that brings together some of the most pessimistic, neuro
 tic & dysfunctional individuals on the face of the planet: stand-up co
 medians. Take the edge off with cheap drinks and free laughs as these 
 choleric comics direct their disdain towards all of society’s growin
 g ills.\n\nApril marks one full year of MISERY INDEX at the Rite Spot 
 and features an amazing lineup of maladjusted mirth makers: \n\nNato 
 Green (Best Comedian -SF Weekly)\nKaseem Bentley (\"Comic to Watch 20
 13\" -SF Weekly)\nNicole Calasich (SF Sketchfest)\nMatt Louv (Mission
  Position)\nDrew Platt (SXSW)\nStefani Silverman (Tickled Pink!)\nBria
 n Blank (Denver Comedy Works)\nHosted by Matt Lieb (Where Eagles Dare
 )\n\nEvery First Monday of the Month!\n\n The Rite Spot is a cozy Miss
 ion dive that features local bands, comedians and performers. A rare S
 an Francisco luxury set in an unpretentious atmosphere featuring Itali
 an-American food, a full bar and an excellent wine list. “Aside from
  a little low conversation and the occasional clink of a glass, people
  are there to listen, and what they’re listening to is top-notch.\" 
 -SF Weekly\n\nFor more information visit http://trueskool.com/events/m
 isery-index-free-comedy-cheap-drinks-8
DTSTART;TZID=America/Los_Angeles:20140407T200000
DTEND;TZID=America/Los_Angeles:20140407T214500
CATEGORIES:san, francisco
LOCATION:The Rite Spot
WEBSITE:http://miseryindexcomedy.com
URL:http://miseryindexcomedy.com
CONTACT:415.552.6066
ORGANIZER;CN="Trevor Hill":http://trueskool.com/profile/TrevorHill
ATTACH;FMTTYPE="image/jpeg":http://storage.ning.com/topology/rest/1.0/
 file/get/2247959197?profile=original
ATTENDEE;ROLE=REQ-PARTICIPANT;PARTSTAT=ACCEPTED;RSVP=TRUE;CN="Trevor H
 ill":http://trueskool.com/profile/TrevorHill
END:VEVENT
END:VCALENDAR
