BEGIN:VCALENDAR
PRODID:NingEventWidget-v1
VERSION:2.0
METHOD:PUBLISH
BEGIN:VTIMEZONE
TZID:America/Los_Angeles
X-LIC-LOCATION:America/Los_Angeles
BEGIN:DAYLIGHT
TZOFFSETFROM:-0800
TZOFFSETTO:-0700
TZNAME:PDT
DTSTART:19700308T020000
RRULE:FREQ=YEARLY;BYMONTH=3;BYDAY=2SU
END:DAYLIGHT
BEGIN:STANDARD
TZOFFSETFROM:-0700
TZOFFSETTO:-0800
TZNAME:PST
DTSTART:19701101T020000
RRULE:FREQ=YEARLY;BYMONTH=11;BYDAY=1SU
END:STANDARD
END:VTIMEZONE
BEGIN:VEVENT
UID:1464587:Event:289878
DTSTAMP:20260420T214443Z
SUMMARY:MISERY INDEX - Free Comedy & Cheap Drinks
DESCRIPTION:MISERY INDEX\nMonday, January 6th @ 8:00pm\nThe Rite SpotÂ
  (2099 Folsom @ 17th)\n3 blocks from 16th & Mission BART\nNO COVER!\n\
 nLetâ€™s face it. Things arenâ€™t going great: a bad economy, a horrib
 le job market, never ending wars, exorbitant rent prices, dysfunctiona
 l relationships, mental illness, addiction, poverty, corruption, STDs,
  Rihanna. While there isnâ€™t a cure for all of lifeâ€™s problems, the
 re is a tonicâ€¦Â \nMISERY INDEX is a free, monthly show that brings t
 ogether some of the most pessimistic, neurotic & dysfunctional individ
 uals on the face of the planet: stand-up comedians. Take the edge off 
 with cheap drinks and free laughs as these choleric comics direct thei
 r disdain towards all of societyâ€™s growing ills.\n\nJanuaryâ€™s line
 up features maladjusted mirth makers:Â \nSean Keane (The Business)\nDa
 vid Gborie (SF Sketchfest)\nEmily Epstein White (NY Underground Comedy
  Fest)\nRoman Leo (Cobbâ€™s)\nEloisa Bravo (Bitchslap! Comedy)\nDNA (N
 PRâ€™s Snap Judgement)\nRyan Papazian (SF Punchline)\nHosted byÂ Trevo
 r HillÂ (Great American Comedy Fest)\n\nEvery First Monday of the Mont
 h!\n\nThe Rite Spot is a cozy Mission dive that features local bands, 
 comedians and performers. A rare San Francisco luxury set in an unpret
 entious atmosphere featuring Italian-American food, a full bar and an 
 excellent wine list. â€śAside from a little low conversation and the o
 ccasional clink of a glass, people are there to listen, and what theyâ
 €™re listening to is top-notch.â€ť -SF Weekly\n\nFor more information 
 visit http://trueskool.com/events/misery-index-free-comedy-cheap-drink
 s-6
DTSTART;TZID=America/Los_Angeles:20140106T200000
DTEND;TZID=America/Los_Angeles:20140106T213000
CATEGORIES:san, francisco
LOCATION:The Rite Spot
WEBSITE:http://miseryindexcomedy.com
URL:http://miseryindexcomedy.com
CONTACT:415.552.6066
ORGANIZER;CN="Trevor Hill":http://trueskool.com/profile/TrevorHill
ATTACH;FMTTYPE="image/jpeg":http://storage.ning.com/topology/rest/1.0/
 file/get/2247956529?profile=original
ATTENDEE;ROLE=REQ-PARTICIPANT;PARTSTAT=ACCEPTED;RSVP=TRUE;CN="Trevor H
 ill":http://trueskool.com/profile/TrevorHill
END:VEVENT
END:VCALENDAR
