BEGIN:VCALENDAR
PRODID:NingEventWidget-v1
VERSION:2.0
METHOD:PUBLISH
BEGIN:VTIMEZONE
TZID:America/Los_Angeles
X-LIC-LOCATION:America/Los_Angeles
BEGIN:DAYLIGHT
TZOFFSETFROM:-0800
TZOFFSETTO:-0700
TZNAME:PDT
DTSTART:19700308T020000
RRULE:FREQ=YEARLY;BYMONTH=3;BYDAY=2SU
END:DAYLIGHT
BEGIN:STANDARD
TZOFFSETFROM:-0700
TZOFFSETTO:-0800
TZNAME:PST
DTSTART:19701101T020000
RRULE:FREQ=YEARLY;BYMONTH=11;BYDAY=1SU
END:STANDARD
END:VTIMEZONE
BEGIN:VEVENT
UID:1464587:Event:63481
DTSTAMP:20260420T102310Z
SUMMARY:Mint Condition (WIN TICKETS)
DESCRIPTION:CLICK HERE TO WIN A PAIR OF TICKETS:\nhttp://www.trueskool
 .com/group/wintickets\n\n\nSep 02-Sep 5, 2010\nMint Condition\nCelebra
 ting Their New Single\n\nThursday\n8PM: $35\n\nFriday/ Saturday\n8PM: 
 $35\n10PM: $35\n\nSunday\n8PM: $35\n\nYoshi's San Francisco\n1330 Fill
 more Street\nSan Francisco, CA 94115\nPhone: 415.655.5600\n» BUY TICK
 ETS\n\n\nFor more information visit http://trueskool.com/events/mint-c
 ondition-win-tickets
DTSTART;TZID=America/Los_Angeles:20100902T200000
DTEND;TZID=America/Los_Angeles:20100905T220000
CATEGORIES:bay, area, san, francisco, ca
LOCATION:Yoshi's, San Francisco, CA
WEBSITE:http://sfyoshis2.inticketing.com/evlist.php?events=search&sear
 chstr=mint
URL:http://sfyoshis2.inticketing.com/evlist.php?events=search&searchst
 r=mint
CONTACT:
ORGANIZER:Yoshi's
ATTACH;FMTTYPE="image/jpeg":http://storage.ning.com/topology/rest/1.0/
 file/get/2247882200?profile=original
ATTENDEE;ROLE=REQ-PARTICIPANT;PARTSTAT=ACCEPTED;RSVP=TRUE;CN="Ren the 
 Vinyl Archaeologist":http://trueskool.com/profile/xh51jvilojur
END:VEVENT
END:VCALENDAR
