BEGIN:VCALENDAR
PRODID:NingEventWidget-v1
VERSION:2.0
METHOD:PUBLISH
BEGIN:VTIMEZONE
TZID:America/Los_Angeles
X-LIC-LOCATION:America/Los_Angeles
BEGIN:DAYLIGHT
TZOFFSETFROM:-0800
TZOFFSETTO:-0700
TZNAME:PDT
DTSTART:19700308T020000
RRULE:FREQ=YEARLY;BYMONTH=3;BYDAY=2SU
END:DAYLIGHT
BEGIN:STANDARD
TZOFFSETFROM:-0700
TZOFFSETTO:-0800
TZNAME:PST
DTSTART:19701101T020000
RRULE:FREQ=YEARLY;BYMONTH=11;BYDAY=1SU
END:STANDARD
END:VTIMEZONE
BEGIN:VEVENT
UID:1464587:Event:318192
DTSTAMP:20260421T033430Z
SUMMARY:Mint Condition (Los Angeles)
DESCRIPTION:\nMint Condition\n\n\n\n City National Grove of    Anah
 eim Anaheim, CA\n\nThu, 04/03/14 08:00 PM\n\n Find  Tickets »\n\
 n\n\n\n\nFor more information visit http://trueskool.com/events/mint-c
 ondition-los-angeles
DTSTART;TZID=America/Los_Angeles:20140403T200000
DTEND;TZID=America/Los_Angeles:20140403T230000
CATEGORIES:"los angeles"
LOCATION:City National Grove of Anaheim, Los Angeles
WEBSITE:http://www.ticketmaster.com/mint-condition-anaheim-california-
 04-03-2014/event/09004B94C87C946F?artistid=867970&majorcatid=10001&min
 orcatid=202&tm_link=browse_msg-0_09004B94C87C946F
URL:http://www.ticketmaster.com/mint-condition-anaheim-california-04-0
 3-2014/event/09004B94C87C946F?artistid=867970&majorcatid=10001&minorca
 tid=202&tm_link=browse_msg-0_09004B94C87C946F
CONTACT:
ORGANIZER;CN="Editor's Pick":http://trueskool.com/profile/RentheVinylA
 rchaeologist
ATTACH;FMTTYPE="image/jpeg":http://storage.ning.com/topology/rest/1.0/
 file/get/2247957046?profile=original
ATTENDEE;ROLE=REQ-PARTICIPANT;PARTSTAT=ACCEPTED;RSVP=TRUE;CN="Editor's
  Pick":http://trueskool.com/profile/RentheVinylArchaeologist
END:VEVENT
END:VCALENDAR
