BEGIN:VCALENDAR
PRODID:NingEventWidget-v1
VERSION:2.0
METHOD:PUBLISH
BEGIN:VTIMEZONE
TZID:America/Los_Angeles
X-LIC-LOCATION:America/Los_Angeles
BEGIN:DAYLIGHT
TZOFFSETFROM:-0800
TZOFFSETTO:-0700
TZNAME:PDT
DTSTART:19700308T020000
RRULE:FREQ=YEARLY;BYMONTH=3;BYDAY=2SU
END:DAYLIGHT
BEGIN:STANDARD
TZOFFSETFROM:-0700
TZOFFSETTO:-0800
TZNAME:PST
DTSTART:19701101T020000
RRULE:FREQ=YEARLY;BYMONTH=11;BYDAY=1SU
END:STANDARD
END:VTIMEZONE
BEGIN:VEVENT
UID:1464587:Event:76720
DTSTAMP:20260421T034900Z
SUMMARY:MIGHTY Real presents FRANKIE KNUCKLES (NYC | DEF MIX Productio
 ns)
DESCRIPTION:\nMIGHTY real presents LEGENDARY NYC producer/DJ, Frankie 
 Knuckles.  Support comes from San Francisco's own, David Harness.  I
 t all goes down at MIGHTY on Saturday, February 26th, at 10PM!\nThe ma
 n many call the godfather of house, Frankie Knuckles began DJing in Ne
 w York in the early '70s while still a teenager, years before the disc
 o boom which proved to be the first flowering of modern dance music. T
 en years later he was in Chicago, putting together megamixes of old di
 sco hits with new drum-machine percussion for an appreciative audience
  at crucial clubs like the Music Box and the Warehouse. Another decade
  on from those first formative steps for house music, Knuckles was bac
 k in his New York home, working as a producer and remixer for the bigg
 est pop stars in the business. His career spans more time than any dan
 ce producer and without him, the landscape would be immeasurably diffe
 rent.\nDavid Harness is one of the most popular DJ/producers in the Sa
 n Francisco Bay Area club scene. He has been described as ‘a man who
  lives, breathes and emanates everything that is beautiful about deep 
 house music and classic garage.’ David is considered a ‘rising sta
 r’ within the dance community. To date, David has worked on projects
  featuring artists such as Mary J. Blige, Luther Vandross, Aretha Fran
 klin, Simply Red, Alicia Keys, Floetry, Donnie McClurkin, India Arie, 
 *NSYNC and Donnell Jones. A collaborative effort with DJ/producers Chr
 is Lum of Abitare Music, Jay J of Moulton Studios, and Charles Spencer
  of LoveSlap has resulted in several independent releases. David has a
 ppeared in articles and interviews in Billboard Magazine, Paper Magazi
 ne, Surface, XLR8R, Streetsounds, Sweater, HX, Next, URB, DJ Mag and t
 he SF Bay Guardian. David Harness’ passion, talent and creativity ha
 s definitely created a new page in the history of house music.\n\nFor 
 more information visit http://trueskool.com/events/mighty-real-present
 s-frankie-1
DTSTART;TZID=America/Los_Angeles:20110226T220000
DTEND;TZID=America/Los_Angeles:20110227T040000
CATEGORIES:san, francisco, ca, bay
LOCATION:Mighty, San Francisco
WEBSITE:http://frankieknuckles.eventbrite.com/
URL:http://frankieknuckles.eventbrite.com/
CONTACT:415-626-7001
ORGANIZER;CN="Carey Kopp":http://trueskool.com/profile/k85
ATTACH;FMTTYPE="image/jpeg":http://storage.ning.com/topology/rest/1.0/
 file/get/2247889396?profile=original
ATTENDEE;ROLE=REQ-PARTICIPANT;PARTSTAT=ACCEPTED;RSVP=TRUE;CN="Carey Ko
 pp":http://trueskool.com/profile/k85
END:VEVENT
END:VCALENDAR
