BEGIN:VCALENDAR
PRODID:NingEventWidget-v1
VERSION:2.0
METHOD:PUBLISH
BEGIN:VTIMEZONE
TZID:America/Los_Angeles
X-LIC-LOCATION:America/Los_Angeles
BEGIN:DAYLIGHT
TZOFFSETFROM:-0800
TZOFFSETTO:-0700
TZNAME:PDT
DTSTART:19700308T020000
RRULE:FREQ=YEARLY;BYMONTH=3;BYDAY=2SU
END:DAYLIGHT
BEGIN:STANDARD
TZOFFSETFROM:-0700
TZOFFSETTO:-0800
TZNAME:PST
DTSTART:19701101T020000
RRULE:FREQ=YEARLY;BYMONTH=11;BYDAY=1SU
END:STANDARD
END:VTIMEZONE
BEGIN:VEVENT
UID:1464587:Event:63477
DTSTAMP:20260420T102210Z
SUMMARY:Mighty Diamonds
DESCRIPTION:CLICK HERE TO WIN A PAIR OF TICKETS:\nhttp://www.trueskool
 .com/group/wintickets\n\n\nSeptember 02, 2010\nThe Mighty Diamonds\n\n
 Open Dance Floor!\n\nYoshi's San Francisco\n1330 Fillmore Street\nSan 
 Francisco, CA 94115\n10:30PM Show: $18 adv/ $22 at the door\n» BUY TI
 CKETS\n \n\nFor more information visit http://trueskool.com/events/mig
 hty-diamonds
DTSTART;TZID=America/Los_Angeles:20100902T223000
DTEND;TZID=America/Los_Angeles:20100902T233000
CATEGORIES:bay, area, san, francisco, ca
LOCATION:Yoshi's, San Francisco, CA
WEBSITE:http://www.amazon.com/gp/redirect.html?ie=UTF8&location=http%3
 A%2F%2Fwww.amazon.com%2Fgp%2Fentity%2FMighty-Diamonds%2FB000APYJNY%3Fi
 e%3DUTF8%26ref_%3Dsr%5Fntt%5Fsrch%5Flnk%5F1%26qid%3D1281458804%26sr%3D
 1-1&tag=trueskool-20&linkCode=ur2&camp=1789&creative=390957
URL:http://www.amazon.com/gp/redirect.html?ie=UTF8&location=http%3A%2F
 %2Fwww.amazon.com%2Fgp%2Fentity%2FMighty-Diamonds%2FB000APYJNY%3Fie%3D
 UTF8%26ref_%3Dsr%5Fntt%5Fsrch%5Flnk%5F1%26qid%3D1281458804%26sr%3D1-1&
 tag=trueskool-20&linkCode=ur2&camp=1789&creative=390957
CONTACT:
ORGANIZER:Yoshi's
ATTACH;FMTTYPE="image/jpeg":http://storage.ning.com/topology/rest/1.0/
 file/get/2247882506?profile=original
ATTENDEE;ROLE=REQ-PARTICIPANT;PARTSTAT=ACCEPTED;RSVP=TRUE;CN="Ren the 
 Vinyl Archaeologist":http://trueskool.com/profile/xh51jvilojur
END:VEVENT
END:VCALENDAR
