BEGIN:VCALENDAR
PRODID:NingEventWidget-v1
VERSION:2.0
METHOD:PUBLISH
BEGIN:VTIMEZONE
TZID:America/Los_Angeles
X-LIC-LOCATION:America/Los_Angeles
BEGIN:DAYLIGHT
TZOFFSETFROM:-0800
TZOFFSETTO:-0700
TZNAME:PDT
DTSTART:19700308T020000
RRULE:FREQ=YEARLY;BYMONTH=3;BYDAY=2SU
END:DAYLIGHT
BEGIN:STANDARD
TZOFFSETFROM:-0700
TZOFFSETTO:-0800
TZNAME:PST
DTSTART:19701101T020000
RRULE:FREQ=YEARLY;BYMONTH=11;BYDAY=1SU
END:STANDARD
END:VTIMEZONE
BEGIN:VEVENT
UID:1464587:Event:291760
DTSTAMP:20260420T235325Z
SUMMARY:Mighty and Sunset Promotions Present: DJ Icey @ the 8th Annual
  Icebreakers Ball
DESCRIPTION:DJ ICEY(Zone Records)ZACH MOORE(The Armory / Space Cowboys
 )And Janky Barge chrome-team MOPOU9LIFTPHLECKSHOUTS!MA YEAHMATT HAZES
 NARKLEPROFESSOR BANGDJ Icey returns to San Francisco to rock the 8th A
 nnual Icebreakers Ball along with Space Cowboys stalwart and perennial
  SF favorite, Zach Moore and the Janky Barge DJ's. This snow-covered, 
 all-white-costume party is one of our most anticipated every year and 
 always sells out. Get your tickets in advance. Limited $15 tickets ava
 ilable now while they last, then $18, then $20 on Day of Show and befo
 re 11pm at the door.\n\nFor more information visit http://trueskool.co
 m/events/mighty-and-sunset-promotions-present-dj-icey-the-8th-annual
DTSTART;TZID=America/Los_Angeles:20140118T220000
DTEND;TZID=America/Los_Angeles:20140119T030000
CATEGORIES:san, francisco, ca
LOCATION:Mighty, San Francisco
WEBSITE:http://ticketf.ly/18FuMpw
URL:http://ticketf.ly/18FuMpw
CONTACT:
ORGANIZER:Mighty SF
ATTACH;FMTTYPE="image/jpeg":
ATTENDEE;ROLE=REQ-PARTICIPANT;PARTSTAT=ACCEPTED;RSVP=TRUE;CN="Alexandr
 a Alden":http://trueskool.com/profile/AlexandraAlden
END:VEVENT
END:VCALENDAR
