BEGIN:VCALENDAR
PRODID:NingEventWidget-v1
VERSION:2.0
METHOD:PUBLISH
BEGIN:VTIMEZONE
TZID:America/Los_Angeles
X-LIC-LOCATION:America/Los_Angeles
BEGIN:DAYLIGHT
TZOFFSETFROM:-0800
TZOFFSETTO:-0700
TZNAME:PDT
DTSTART:19700308T020000
RRULE:FREQ=YEARLY;BYMONTH=3;BYDAY=2SU
END:DAYLIGHT
BEGIN:STANDARD
TZOFFSETFROM:-0700
TZOFFSETTO:-0800
TZNAME:PST
DTSTART:19701101T020000
RRULE:FREQ=YEARLY;BYMONTH=11;BYDAY=1SU
END:STANDARD
END:VTIMEZONE
BEGIN:VEVENT
UID:1464587:Event:111884
DTSTAMP:20260420T070548Z
SUMMARY:Mickey Hart Band
DESCRIPTION:Mickey Hart will be performing with his new band.\n\nFor m
 ore information visit http://trueskool.com/events/mickey-hart-band-2
DTSTART;TZID=America/Los_Angeles:20120303T210000
DTEND;TZID=America/Los_Angeles:20120304T000000
CATEGORIES:las, vegas, nv
LOCATION:Hard Rock Cafe Las Vegas
WEBSITE:http://mickeyhart.net/shows/
URL:http://mickeyhart.net/shows/
CONTACT:702-650-8585
ORGANIZER;CN="Yonas Media":http://trueskool.com/profile/YonasMedia
ATTACH;FMTTYPE="image/jpeg":http://storage.ning.com/topology/rest/1.0/
 file/get/2247903895?profile=original
ATTENDEE;ROLE=REQ-PARTICIPANT;PARTSTAT=ACCEPTED;RSVP=TRUE;CN="Yonas Me
 dia":http://trueskool.com/profile/YonasMedia
END:VEVENT
END:VCALENDAR
