BEGIN:VCALENDAR
PRODID:NingEventWidget-v1
VERSION:2.0
METHOD:PUBLISH
BEGIN:VTIMEZONE
TZID:America/Los_Angeles
X-LIC-LOCATION:America/Los_Angeles
BEGIN:DAYLIGHT
TZOFFSETFROM:-0800
TZOFFSETTO:-0700
TZNAME:PDT
DTSTART:19700308T020000
RRULE:FREQ=YEARLY;BYMONTH=3;BYDAY=2SU
END:DAYLIGHT
BEGIN:STANDARD
TZOFFSETFROM:-0700
TZOFFSETTO:-0800
TZNAME:PST
DTSTART:19701101T020000
RRULE:FREQ=YEARLY;BYMONTH=11;BYDAY=1SU
END:STANDARD
END:VTIMEZONE
BEGIN:VEVENT
UID:1464587:Event:117699
DTSTAMP:20260420T085106Z
SUMMARY:Merry Making :: Saturday May 5th
DESCRIPTION:Leland Pro (http://lelandpro.com/) Presents: Merry Making 
  Featuring 3 Areas of HOUSE//ELECTRO\\DUBSTEP:  + + RICHIE PANIC + +\n
 LEON GOTHAM : ZERO EXCUSE  PLAN B :: ZAK-L :: JULES JONES THE JINXX S
 HOW : ONE SOURCE  ALKEMIZE:NANO SAGE:DYRECKT ONEZIE SCOTT::OC JONS::B
 ASSIC RAPHELLE ANDREWS :: DJ ROUSH\n and many more\n\n+watch the trail
 er: http://youtu.be/w8M_HpLF-2M\n\n\n+3 areas, 18 acts, 1 electric ni
 ght +unparalleled sound, lighting, and effects +SF's top gogo's and pe
 rformers +filming for the 'Love of Art'  +on call massage therapist +
 reedic drink specials +champagne giveaways +awesome bday/group special
 s +Moopi Champagne Challenge +one big room full of bad bitches\n\n\n\n
 \n+website special: RSVP at http://lelandpro.com/ to get in for $3 b
 efore 11pm  ================================= - -$10 without RSVP - - 
 21+ event - - 9pm-2am- -  =================================\n\n\n----
 MAIN ROOM DJs:-----  +RICHIE PANIC+\n  \n http://www.richiepanic.com/ 
 http://www.facebook.com/richiepanic http://soundcloud.com/richiepanic 
 \n Official Site: http://www.lelandpro.com/\n\nFor more information v
 isit http://trueskool.com/events/merry-making-saturday-may-5th
DTSTART;TZID=America/Los_Angeles:20120505T210000
DTEND;TZID=America/Los_Angeles:20120506T020000
CATEGORIES:"bay area", "san francisco"
LOCATION:Supperclub SF, San Francisco, California
WEBSITE:
URL:
CONTACT:415 342 8853
ORGANIZER:lelandpro
ATTACH;FMTTYPE="image/jpeg":http://storage.ning.com/topology/rest/1.0/
 file/get/2247909869?profile=original
ATTENDEE;ROLE=REQ-PARTICIPANT;PARTSTAT=ACCEPTED;RSVP=TRUE;CN="sam arro
 w":http://trueskool.com/profile/samarrow
END:VEVENT
END:VCALENDAR
