BEGIN:VCALENDAR
PRODID:NingEventWidget-v1
VERSION:2.0
METHOD:PUBLISH
BEGIN:VTIMEZONE
TZID:America/Los_Angeles
X-LIC-LOCATION:America/Los_Angeles
BEGIN:DAYLIGHT
TZOFFSETFROM:-0800
TZOFFSETTO:-0700
TZNAME:PDT
DTSTART:19700308T020000
RRULE:FREQ=YEARLY;BYMONTH=3;BYDAY=2SU
END:DAYLIGHT
BEGIN:STANDARD
TZOFFSETFROM:-0700
TZOFFSETTO:-0800
TZNAME:PST
DTSTART:19701101T020000
RRULE:FREQ=YEARLY;BYMONTH=11;BYDAY=1SU
END:STANDARD
END:VTIMEZONE
BEGIN:VEVENT
UID:1464587:Event:326188
DTSTAMP:20260421T101928Z
SUMMARY:Menage Aries Birthday Bash with DJ Pam the Funkstress
DESCRIPTION:This Month at MÉNAGE, we are celebrating our very own Dan
 cer Hennessy and Mrs. Erika Jones Birthday'sIt is going to be a party 
 and as you all saw last month the turn up will be real with Special gu
 ests in the building. Theme: Aries Birthday BashTheme Colors: Pink an
 d Black Guest Host: Ms. Lady Lana This month at Ménage we have DJ P
 am The Funkstress in the building.With DJ's Jacatac and Rapture Ména
 ge Dancers: Hennessy, Entice, and Roman There is very limited VIP upg
 rade from 9pm til 11pmWe have new specials at Ménage from Admission t
 o Drinks, with a new set up for you to dance and party. $ 5 COVER wit
 h Bench and Bar text or Guest LIst All Night Text the Keyword LETSPART
 Y TO 46786Doors open at 9pm til 2am.***Ménage welcomes everyone with 
 a positive open-mind and ready to have a party.****\n\nFor more inform
 ation visit http://trueskool.com/events/menage-aries-birthday-bash-wit
 h-dj-pam-the-funkstress
DTSTART;TZID=America/Los_Angeles:20140411T210000
DTEND;TZID=America/Los_Angeles:20140412T020000
CATEGORIES:sf, bay, area, oakland, vallejo, stockton, san, francisco, 
 richmond, los, angeles
LOCATION:oakland
WEBSITE:http://www.facebook.com/djrapture
URL:http://www.facebook.com/djrapture
CONTACT:510-759-4340
ORGANIZER;CN="Ronnie Jones":http://trueskool.com/profile/RonnieJones
ATTACH;FMTTYPE="image/jpeg":http://storage.ning.com/topology/rest/1.0/
 file/get/2247958150?profile=original
ATTENDEE;ROLE=REQ-PARTICIPANT;PARTSTAT=ACCEPTED;RSVP=TRUE;CN="Ronnie J
 ones":http://trueskool.com/profile/RonnieJones
END:VEVENT
END:VCALENDAR
