BEGIN:VCALENDAR
PRODID:NingEventWidget-v1
VERSION:2.0
METHOD:PUBLISH
BEGIN:VTIMEZONE
TZID:America/Los_Angeles
X-LIC-LOCATION:America/Los_Angeles
BEGIN:DAYLIGHT
TZOFFSETFROM:-0800
TZOFFSETTO:-0700
TZNAME:PDT
DTSTART:19700308T020000
RRULE:FREQ=YEARLY;BYMONTH=3;BYDAY=2SU
END:DAYLIGHT
BEGIN:STANDARD
TZOFFSETFROM:-0700
TZOFFSETTO:-0800
TZNAME:PST
DTSTART:19701101T020000
RRULE:FREQ=YEARLY;BYMONTH=11;BYDAY=1SU
END:STANDARD
END:VTIMEZONE
BEGIN:VEVENT
UID:1464587:Event:116154
DTSTAMP:20260420T080345Z
SUMMARY:MELTING POT! Saturday March 31st
DESCRIPTION:\nUpstairs in the LOFT looking out over SOMA and the Downt
 own Skyline, dance your ass off with DJs Tom Thump (Loose Joints! Frid
 ays!) and Senor Oz (Afrolicious)! This is a great new space in the bus
 tling and hustling SOMA District and NO Cover!\nFunk/Boogie/Latin/Afro
 beat/Disco...uptempo all night! Come on Upstairs!\n\nFor more informat
 ion visit http://trueskool.com/events/melting-pot-saturday-march-31st
DTSTART;TZID=America/Los_Angeles:20120331T210000
DTEND;TZID=America/Los_Angeles:20120401T020000
CATEGORIES:"san francisco", california, soma
LOCATION:RAVEN (1151 Folsom St., btwn. 7th and 8th St.), San Francisco
WEBSITE:http://http:ravensf.com
URL:http://http:ravensf.com
CONTACT:
ORGANIZER;CN="dj tom thump":http://trueskool.com/profile/djtomthump
ATTACH;FMTTYPE="image/jpeg":http://storage.ning.com/topology/rest/1.0/
 file/get/2247907699?profile=original
ATTENDEE;ROLE=REQ-PARTICIPANT;PARTSTAT=ACCEPTED;RSVP=TRUE;CN="dj tom t
 hump":http://trueskool.com/profile/djtomthump
END:VEVENT
END:VCALENDAR
